   BEGIN:VCALENDAR
VERSION:2.0
PRODID:-//The Avenue - ECPv6.15.20//NONSGML v1.0//EN
CALSCALE:GREGORIAN
METHOD:PUBLISH
X-ORIGINAL-URL:https://www.theavenueprimaryschool.co.uk
X-WR-CALDESC:Events for The Avenue
REFRESH-INTERVAL;VALUE=DURATION:PT1H
X-Robots-Tag:noindex
X-PUBLISHED-TTL:PT1H
BEGIN:VTIMEZONE
TZID:UTC
BEGIN:STANDARD
TZOFFSETFROM:+0000
TZOFFSETTO:+0000
TZNAME:UTC
DTSTART:20220101T000000
END:STANDARD
END:VTIMEZONE
BEGIN:VEVENT
DTSTART;VALUE=DATE:20231117
DTEND;VALUE=DATE:20231118
DTSTAMP:20260420T004728
CREATED:20230831T143354Z
LAST-MODIFIED:20230831T143354Z
UID:5583-1700179200-1700265599@www.theavenueprimaryschool.co.uk
SUMMARY:Odd socks day – Anti-bullying week
DESCRIPTION:
URL:https://www.theavenueprimaryschool.co.uk/event/odd-socks-day-anti-bullying-week-2/
END:VEVENT
BEGIN:VEVENT
DTSTART;TZID=UTC:20231109T153000
DTEND;TZID=UTC:20231109T180000
DTSTAMP:20260420T004728
CREATED:20231109T144757Z
LAST-MODIFIED:20231109T144757Z
UID:5870-1699543800-1699552800@www.theavenueprimaryschool.co.uk
SUMMARY:Autumn Term Parents Evening - November 2023
DESCRIPTION:Teacher(s) available for parents evening: Miss Hewitt\, Mr Richardson\, Miss Highfield\, Mrs Johnson\, Mr Thomas\, Mr Joy\, Miss Walker\, Mrs B Naylor \nView Event
URL:https://www.theavenueprimaryschool.co.uk/event/autumn-term-parents-evening-november-2023-4/
END:VEVENT
BEGIN:VEVENT
DTSTART;TZID=UTC:20231109T153000
DTEND;TZID=UTC:20231109T180000
DTSTAMP:20260420T004728
CREATED:20231109T144756Z
LAST-MODIFIED:20231109T144756Z
UID:5867-1699543800-1699552800@www.theavenueprimaryschool.co.uk
SUMMARY:Autumn Term Parents Evening - November 2023
DESCRIPTION:Teacher(s) available for parents evening: Mrs Thomas\, Miss Hewitt\, Mr Richardson\, Miss Lowe\, Miss Highfield\, Mrs Johnson\, Mr Thomas\, Miss Walker\, Miss Briston\, Miss Grayson\, Miss Burnett\, Miss Bell \nView Event
URL:https://www.theavenueprimaryschool.co.uk/event/autumn-term-parents-evening-november-2023/
END:VEVENT
BEGIN:VEVENT
DTSTART;TZID=UTC:20231109T153000
DTEND;TZID=UTC:20231109T180000
DTSTAMP:20260420T004728
CREATED:20231109T144756Z
LAST-MODIFIED:20231109T144756Z
UID:5868-1699543800-1699552800@www.theavenueprimaryschool.co.uk
SUMMARY:Autumn Term Parents Evening - November 2023
DESCRIPTION:Teacher(s) available for parents evening: Mrs Thomas\, Mr Richardson\, Miss Lowe\, Miss Highfield\, Mrs Johnson\, Miss Briston\, Miss Grayson\, Miss Burnett\, Miss Bell \nView Event
URL:https://www.theavenueprimaryschool.co.uk/event/autumn-term-parents-evening-november-2023-2/
END:VEVENT
BEGIN:VEVENT
DTSTART;TZID=UTC:20231109T153000
DTEND;TZID=UTC:20231109T180000
DTSTAMP:20260420T004728
CREATED:20231109T144756Z
LAST-MODIFIED:20231109T144756Z
UID:5869-1699543800-1699552800@www.theavenueprimaryschool.co.uk
SUMMARY:Autumn Term Parents Evening - November 2023
DESCRIPTION:Teacher(s) available for parents evening: Mrs Thomas\, Miss Hewitt\, Mr Richardson\, Miss Highfield\, Mrs Johnson\, Mr Thomas\, Mr Joy\, Miss Walker\, Mrs B Naylor\, Miss Briston\, Miss Grayson\, Miss Burnett\, Miss Bell \nView Event
URL:https://www.theavenueprimaryschool.co.uk/event/autumn-term-parents-evening-november-2023-3/
END:VEVENT
BEGIN:VEVENT
DTSTART;TZID=UTC:20231109T153000
DTEND;TZID=UTC:20231109T180000
DTSTAMP:20260420T004728
CREATED:20231109T140608Z
LAST-MODIFIED:20231109T140608Z
UID:5865-1699543800-1699552800@www.theavenueprimaryschool.co.uk
SUMMARY:Autumn Parents Evening - November 2023
DESCRIPTION:Teacher(s) available for parents evening: Mrs Thomas\, Miss Hewitt\, Mr Richardson\, Miss Lowe\, Miss Highfield\, Mrs Johnson\, Mr Thomas\, Miss Walker\, Miss Briston\, Miss Grayson\, Miss Burnett\, Miss Bell \nView Event
URL:https://www.theavenueprimaryschool.co.uk/event/autumn-parents-evening-november-2023-4/
END:VEVENT
BEGIN:VEVENT
DTSTART;TZID=UTC:20231109T153000
DTEND;TZID=UTC:20231109T180000
DTSTAMP:20260420T004728
CREATED:20231109T133146Z
LAST-MODIFIED:20231109T133146Z
UID:5854-1699543800-1699552800@www.theavenueprimaryschool.co.uk
SUMMARY:Parents Evening 20th - 23rd November 2023
DESCRIPTION:Teacher(s) available for parents evening: Mrs B Naylor \nView Event
URL:https://www.theavenueprimaryschool.co.uk/event/parents-evening-20th-23rd-november-2023-28/
END:VEVENT
BEGIN:VEVENT
DTSTART;TZID=UTC:20231109T153000
DTEND;TZID=UTC:20231109T180000
DTSTAMP:20260420T004728
CREATED:20231109T133146Z
LAST-MODIFIED:20231109T133146Z
UID:5853-1699543800-1699552800@www.theavenueprimaryschool.co.uk
SUMMARY:Parents Evening 20th - 23rd November 2023
DESCRIPTION:Teacher(s) available for parents evening: Mrs B Naylor \nView Event
URL:https://www.theavenueprimaryschool.co.uk/event/parents-evening-20th-23rd-november-2023-27/
END:VEVENT
BEGIN:VEVENT
DTSTART;TZID=UTC:20231109T153000
DTEND;TZID=UTC:20231109T180000
DTSTAMP:20260420T004728
CREATED:20231109T133144Z
LAST-MODIFIED:20231109T133144Z
UID:5844-1699543800-1699552800@www.theavenueprimaryschool.co.uk
SUMMARY:Parents Evening 20th - 23rd November 2023
DESCRIPTION:Teacher(s) available for parents evening: Miss Lowe \nView Event
URL:https://www.theavenueprimaryschool.co.uk/event/parents-evening-20th-23rd-november-2023-18/
END:VEVENT
BEGIN:VEVENT
DTSTART;TZID=UTC:20231109T153000
DTEND;TZID=UTC:20231109T180000
DTSTAMP:20260420T004728
CREATED:20231109T133143Z
LAST-MODIFIED:20231109T133143Z
UID:5843-1699543800-1699552800@www.theavenueprimaryschool.co.uk
SUMMARY:Parents Evening 20th - 23rd November 2023
DESCRIPTION:Teacher(s) available for parents evening: Miss Lowe \nView Event
URL:https://www.theavenueprimaryschool.co.uk/event/parents-evening-20th-23rd-november-2023-17/
END:VEVENT
BEGIN:VEVENT
DTSTART;TZID=UTC:20231109T153000
DTEND;TZID=UTC:20231109T180000
DTSTAMP:20260420T004728
CREATED:20231109T133141Z
LAST-MODIFIED:20231109T133141Z
UID:5836-1699543800-1699552800@www.theavenueprimaryschool.co.uk
SUMMARY:Parents Evening 20th - 23rd November 2023
DESCRIPTION:Teacher(s) available for parents evening: Mr Joy \nView Event
URL:https://www.theavenueprimaryschool.co.uk/event/parents-evening-20th-23rd-november-2023-10/
END:VEVENT
BEGIN:VEVENT
DTSTART;TZID=UTC:20231109T153000
DTEND;TZID=UTC:20231109T180000
DTSTAMP:20260420T004728
CREATED:20231109T133140Z
LAST-MODIFIED:20231109T133140Z
UID:5835-1699543800-1699552800@www.theavenueprimaryschool.co.uk
SUMMARY:Parents Evening 20th - 23rd November 2023
DESCRIPTION:Teacher(s) available for parents evening: Mr Joy \nView Event
URL:https://www.theavenueprimaryschool.co.uk/event/parents-evening-20th-23rd-november-2023-9/
END:VEVENT
BEGIN:VEVENT
DTSTART;TZID=UTC:20231109T153000
DTEND;TZID=UTC:20231109T173000
DTSTAMP:20260420T004728
CREATED:20231109T133145Z
LAST-MODIFIED:20231109T133145Z
UID:5848-1699543800-1699551000@www.theavenueprimaryschool.co.uk
SUMMARY:Parents Evening 20th - 23rd November 2023
DESCRIPTION:Teacher(s) available for parents evening: Mr Thomas \nView Event
URL:https://www.theavenueprimaryschool.co.uk/event/parents-evening-20th-23rd-november-2023-22/
END:VEVENT
BEGIN:VEVENT
DTSTART;TZID=UTC:20231109T153000
DTEND;TZID=UTC:20231109T173000
DTSTAMP:20260420T004728
CREATED:20231109T133144Z
LAST-MODIFIED:20231109T133144Z
UID:5845-1699543800-1699551000@www.theavenueprimaryschool.co.uk
SUMMARY:Parents Evening 20th - 23rd November 2023
DESCRIPTION:Teacher(s) available for parents evening: Miss Briston \nView Event
URL:https://www.theavenueprimaryschool.co.uk/event/parents-evening-20th-23rd-november-2023-19/
END:VEVENT
BEGIN:VEVENT
DTSTART;TZID=UTC:20231109T153000
DTEND;TZID=UTC:20231109T173000
DTSTAMP:20260420T004728
CREATED:20231109T133144Z
LAST-MODIFIED:20231109T133144Z
UID:5846-1699543800-1699551000@www.theavenueprimaryschool.co.uk
SUMMARY:Parents Evening 20th - 23rd November 2023
DESCRIPTION:Teacher(s) available for parents evening: Miss Briston \nView Event
URL:https://www.theavenueprimaryschool.co.uk/event/parents-evening-20th-23rd-november-2023-20/
END:VEVENT
BEGIN:VEVENT
DTSTART;TZID=UTC:20231109T153000
DTEND;TZID=UTC:20231109T173000
DTSTAMP:20260420T004728
CREATED:20231109T133144Z
LAST-MODIFIED:20231109T133144Z
UID:5847-1699543800-1699551000@www.theavenueprimaryschool.co.uk
SUMMARY:Parents Evening 20th - 23rd November 2023
DESCRIPTION:Teacher(s) available for parents evening: Miss Briston \nView Event
URL:https://www.theavenueprimaryschool.co.uk/event/parents-evening-20th-23rd-november-2023-21/
END:VEVENT
BEGIN:VEVENT
DTSTART;TZID=UTC:20231109T153000
DTEND;TZID=UTC:20231109T171500
DTSTAMP:20260420T004728
CREATED:20231109T133142Z
LAST-MODIFIED:20231109T133142Z
UID:5838-1699543800-1699550100@www.theavenueprimaryschool.co.uk
SUMMARY:Parents Evening 20th - 23rd November 2023
DESCRIPTION:Teacher(s) available for parents evening: Miss Hewitt \nView Event
URL:https://www.theavenueprimaryschool.co.uk/event/parents-evening-20th-23rd-november-2023-12/
END:VEVENT
BEGIN:VEVENT
DTSTART;TZID=UTC:20231109T153000
DTEND;TZID=UTC:20231109T171500
DTSTAMP:20260420T004728
CREATED:20231109T133142Z
LAST-MODIFIED:20231109T133142Z
UID:5839-1699543800-1699550100@www.theavenueprimaryschool.co.uk
SUMMARY:Parents Evening 20th - 23rd November 2023
DESCRIPTION:Teacher(s) available for parents evening: Miss Hewitt \nView Event
URL:https://www.theavenueprimaryschool.co.uk/event/parents-evening-20th-23rd-november-2023-13/
END:VEVENT
BEGIN:VEVENT
DTSTART;TZID=UTC:20231109T153000
DTEND;TZID=UTC:20231109T171500
DTSTAMP:20260420T004728
CREATED:20231109T133141Z
LAST-MODIFIED:20231109T133141Z
UID:5837-1699543800-1699550100@www.theavenueprimaryschool.co.uk
SUMMARY:Parents Evening 20th - 23rd November 2023
DESCRIPTION:Teacher(s) available for parents evening: Miss Hewitt \nView Event
URL:https://www.theavenueprimaryschool.co.uk/event/parents-evening-20th-23rd-november-2023-11/
END:VEVENT
BEGIN:VEVENT
DTSTART;TZID=UTC:20231109T153000
DTEND;TZID=UTC:20231109T170000
DTSTAMP:20260420T004728
CREATED:20231109T133145Z
LAST-MODIFIED:20231109T133145Z
UID:5849-1699543800-1699549200@www.theavenueprimaryschool.co.uk
SUMMARY:Parents Evening 20th - 23rd November 2023
DESCRIPTION:Teacher(s) available for parents evening: Miss Bell \nView Event
URL:https://www.theavenueprimaryschool.co.uk/event/parents-evening-20th-23rd-november-2023-23/
END:VEVENT
BEGIN:VEVENT
DTSTART;TZID=UTC:20231109T153000
DTEND;TZID=UTC:20231109T170000
DTSTAMP:20260420T004728
CREATED:20231109T133145Z
LAST-MODIFIED:20231109T133145Z
UID:5850-1699543800-1699549200@www.theavenueprimaryschool.co.uk
SUMMARY:Parents Evening 20th - 23rd November 2023
DESCRIPTION:Teacher(s) available for parents evening: Miss Burnett \nView Event
URL:https://www.theavenueprimaryschool.co.uk/event/parents-evening-20th-23rd-november-2023-24/
END:VEVENT
BEGIN:VEVENT
DTSTART;TZID=UTC:20231109T153000
DTEND;TZID=UTC:20231109T170000
DTSTAMP:20260420T004728
CREATED:20231109T133140Z
LAST-MODIFIED:20231109T133140Z
UID:5834-1699543800-1699549200@www.theavenueprimaryschool.co.uk
SUMMARY:Parents Evening 20th - 23rd November 2023
DESCRIPTION:Teacher(s) available for parents evening: Miss Grayson \nView Event
URL:https://www.theavenueprimaryschool.co.uk/event/parents-evening-20th-23rd-november-2023-8/
END:VEVENT
BEGIN:VEVENT
DTSTART;TZID=UTC:20231109T153000
DTEND;TZID=UTC:20231109T170000
DTSTAMP:20260420T004728
CREATED:20231109T133139Z
LAST-MODIFIED:20231109T133139Z
UID:5829-1699543800-1699549200@www.theavenueprimaryschool.co.uk
SUMMARY:Parents Evening 20th - 23rd November 2023
DESCRIPTION:Teacher(s) available for parents evening: Mr Richardson\, Miss Highfield\, Mrs Johnson\, Mr Thomas\, Miss Grayson \nView Event
URL:https://www.theavenueprimaryschool.co.uk/event/parents-evening-20th-23rd-november-2023-3/
END:VEVENT
BEGIN:VEVENT
DTSTART;TZID=UTC:20231109T153000
DTEND;TZID=UTC:20231109T170000
DTSTAMP:20260420T004728
CREATED:20231109T133139Z
LAST-MODIFIED:20231109T133139Z
UID:5830-1699543800-1699549200@www.theavenueprimaryschool.co.uk
SUMMARY:Parents Evening 20th - 23rd November 2023
DESCRIPTION:Teacher(s) available for parents evening: Mr Richardson\, Miss Highfield\, Mrs Johnson \nView Event
URL:https://www.theavenueprimaryschool.co.uk/event/parents-evening-20th-23rd-november-2023-4/
END:VEVENT
BEGIN:VEVENT
DTSTART;TZID=UTC:20231109T153000
DTEND;TZID=UTC:20231109T170000
DTSTAMP:20260420T004728
CREATED:20231109T133138Z
LAST-MODIFIED:20231109T133138Z
UID:5827-1699543800-1699549200@www.theavenueprimaryschool.co.uk
SUMMARY:Parents Evening 20th - 23rd November 2023
DESCRIPTION:Teacher(s) available for parents evening: Mr Richardson\, Miss Highfield\, Mrs Johnson\, Miss Grayson\, Miss Burnett\, Miss Bell \nView Event
URL:https://www.theavenueprimaryschool.co.uk/event/parents-evening-20th-23rd-november-2023/
END:VEVENT
BEGIN:VEVENT
DTSTART;TZID=UTC:20231109T153000
DTEND;TZID=UTC:20231109T170000
DTSTAMP:20260420T004728
CREATED:20231109T133138Z
LAST-MODIFIED:20231109T133138Z
UID:5828-1699543800-1699549200@www.theavenueprimaryschool.co.uk
SUMMARY:Parents Evening 20th - 23rd November 2023
DESCRIPTION:Teacher(s) available for parents evening: Mr Richardson\, Miss Highfield\, Mrs Johnson\, Mr Thomas\, Miss Grayson\, Miss Burnett\, Miss Bell \nView Event
URL:https://www.theavenueprimaryschool.co.uk/event/parents-evening-20th-23rd-november-2023-2/
END:VEVENT
BEGIN:VEVENT
DTSTART;TZID=UTC:20231109T153000
DTEND;TZID=UTC:20231109T165000
DTSTAMP:20260420T004728
CREATED:20231109T133146Z
LAST-MODIFIED:20231109T133146Z
UID:5851-1699543800-1699548600@www.theavenueprimaryschool.co.uk
SUMMARY:Parents Evening 20th - 23rd November 2023
DESCRIPTION:Teacher(s) available for parents evening: Mrs Thomas \nView Event
URL:https://www.theavenueprimaryschool.co.uk/event/parents-evening-20th-23rd-november-2023-25/
END:VEVENT
BEGIN:VEVENT
DTSTART;TZID=UTC:20231109T153000
DTEND;TZID=UTC:20231109T165000
DTSTAMP:20260420T004728
CREATED:20231109T133146Z
LAST-MODIFIED:20231109T133146Z
UID:5852-1699543800-1699548600@www.theavenueprimaryschool.co.uk
SUMMARY:Parents Evening 20th - 23rd November 2023
DESCRIPTION:Teacher(s) available for parents evening: Mrs Thomas \nView Event
URL:https://www.theavenueprimaryschool.co.uk/event/parents-evening-20th-23rd-november-2023-26/
END:VEVENT
BEGIN:VEVENT
DTSTART;TZID=UTC:20231109T153000
DTEND;TZID=UTC:20231109T165000
DTSTAMP:20260420T004728
CREATED:20231109T133139Z
LAST-MODIFIED:20231109T133139Z
UID:5831-1699543800-1699548600@www.theavenueprimaryschool.co.uk
SUMMARY:Parents Evening 20th - 23rd November 2023
DESCRIPTION:Teacher(s) available for parents evening: Mrs Thomas \nView Event
URL:https://www.theavenueprimaryschool.co.uk/event/parents-evening-20th-23rd-november-2023-5/
END:VEVENT
BEGIN:VEVENT
DTSTART;TZID=UTC:20231109T153000
DTEND;TZID=UTC:20231109T161500
DTSTAMP:20260420T004728
CREATED:20231109T133139Z
LAST-MODIFIED:20231109T133139Z
UID:5832-1699543800-1699546500@www.theavenueprimaryschool.co.uk
SUMMARY:Parents Evening 20th - 23rd November 2023
DESCRIPTION:Teacher(s) available for parents evening: Miss Burnett \nView Event
URL:https://www.theavenueprimaryschool.co.uk/event/parents-evening-20th-23rd-november-2023-6/
END:VEVENT
END:VCALENDAR