   BEGIN:VCALENDAR
VERSION:2.0
PRODID:-//The Avenue - ECPv6.15.20//NONSGML v1.0//EN
CALSCALE:GREGORIAN
METHOD:PUBLISH
X-ORIGINAL-URL:https://www.theavenueprimaryschool.co.uk
X-WR-CALDESC:Events for The Avenue
REFRESH-INTERVAL;VALUE=DURATION:PT1H
X-Robots-Tag:noindex
X-PUBLISHED-TTL:PT1H
BEGIN:VTIMEZONE
TZID:UTC
BEGIN:STANDARD
TZOFFSETFROM:+0000
TZOFFSETTO:+0000
TZNAME:UTC
DTSTART:20180101T000000
END:STANDARD
END:VTIMEZONE
BEGIN:VEVENT
DTSTART;VALUE=DATE:20190715
DTEND;VALUE=DATE:20190716
DTSTAMP:20260426T042017
CREATED:20190501T102914Z
LAST-MODIFIED:20190501T102914Z
UID:1252-1563148800-1563235199@www.theavenueprimaryschool.co.uk
SUMMARY:Nunthorpe Transition
DESCRIPTION:
URL:https://www.theavenueprimaryschool.co.uk/event/nunthorpe-transition-5/
END:VEVENT
BEGIN:VEVENT
DTSTART;VALUE=DATE:20190712
DTEND;VALUE=DATE:20190713
DTSTAMP:20260426T042017
CREATED:20190501T112136Z
LAST-MODIFIED:20190501T112136Z
UID:1268-1562889600-1562975999@www.theavenueprimaryschool.co.uk
SUMMARY:Stokesley School Transition
DESCRIPTION:
URL:https://www.theavenueprimaryschool.co.uk/event/stokesley-school-transition-3/
END:VEVENT
BEGIN:VEVENT
DTSTART;VALUE=DATE:20190712
DTEND;VALUE=DATE:20190713
DTSTAMP:20260426T042017
CREATED:20190501T102838Z
LAST-MODIFIED:20190501T102838Z
UID:1250-1562889600-1562975999@www.theavenueprimaryschool.co.uk
SUMMARY:Nunthorpe Transition
DESCRIPTION:
URL:https://www.theavenueprimaryschool.co.uk/event/nunthorpe-transition-4/
END:VEVENT
BEGIN:VEVENT
DTSTART;TZID=UTC:20190711T133000
DTEND;TZID=UTC:20190711T150000
DTSTAMP:20260426T042017
CREATED:20181101T125742Z
LAST-MODIFIED:20181101T125742Z
UID:766-1562851800-1562857200@www.theavenueprimaryschool.co.uk
SUMMARY:Sports Day
DESCRIPTION:
URL:https://www.theavenueprimaryschool.co.uk/event/sports-day/
END:VEVENT
BEGIN:VEVENT
DTSTART;TZID=UTC:20190711T080000
DTEND;TZID=UTC:20190711T170000
DTSTAMP:20260426T042017
CREATED:20190501T102546Z
LAST-MODIFIED:20190501T102546Z
UID:1245-1562832000-1562864400@www.theavenueprimaryschool.co.uk
SUMMARY:Nunthorpe Transition
DESCRIPTION:
URL:https://www.theavenueprimaryschool.co.uk/event/nunthorpe-transition-3/
END:VEVENT
BEGIN:VEVENT
DTSTART;VALUE=DATE:20190711
DTEND;VALUE=DATE:20190712
DTSTAMP:20260426T042017
CREATED:20190501T112118Z
LAST-MODIFIED:20190501T112118Z
UID:1266-1562803200-1562889599@www.theavenueprimaryschool.co.uk
SUMMARY:Stokesley School Transition
DESCRIPTION:
URL:https://www.theavenueprimaryschool.co.uk/event/stokesley-school-transition-2/
END:VEVENT
BEGIN:VEVENT
DTSTART;VALUE=DATE:20190710
DTEND;VALUE=DATE:20190711
DTSTAMP:20260426T042017
CREATED:20190501T112059Z
LAST-MODIFIED:20190501T112059Z
UID:1264-1562716800-1562803199@www.theavenueprimaryschool.co.uk
SUMMARY:Stokesley School Transition
DESCRIPTION:
URL:https://www.theavenueprimaryschool.co.uk/event/stokesley-school-transition/
END:VEVENT
BEGIN:VEVENT
DTSTART;VALUE=DATE:20190710
DTEND;VALUE=DATE:20190711
DTSTAMP:20260426T042017
CREATED:20190501T102519Z
LAST-MODIFIED:20190501T102519Z
UID:1243-1562716800-1562803199@www.theavenueprimaryschool.co.uk
SUMMARY:Nunthorpe Transition
DESCRIPTION:
URL:https://www.theavenueprimaryschool.co.uk/event/nunthorpe-transition-2/
END:VEVENT
BEGIN:VEVENT
DTSTART;TZID=UTC:20190709T133000
DTEND;TZID=UTC:20190709T150000
DTSTAMP:20260426T042017
CREATED:20181101T125704Z
LAST-MODIFIED:20181101T125704Z
UID:764-1562679000-1562684400@www.theavenueprimaryschool.co.uk
SUMMARY:Sponsored Sports Event
DESCRIPTION:
URL:https://www.theavenueprimaryschool.co.uk/event/sponsored-sports-event/
END:VEVENT
BEGIN:VEVENT
DTSTART;VALUE=DATE:20190709
DTEND;VALUE=DATE:20190710
DTSTAMP:20260426T042017
CREATED:20190501T102452Z
LAST-MODIFIED:20190501T103447Z
UID:1241-1562630400-1562716799@www.theavenueprimaryschool.co.uk
SUMMARY:Nunthorpe Transition
DESCRIPTION:
URL:https://www.theavenueprimaryschool.co.uk/event/nunthrope-transition/
END:VEVENT
BEGIN:VEVENT
DTSTART;VALUE=DATE:20190708
DTEND;VALUE=DATE:20190713
DTSTAMP:20260426T042017
CREATED:20181101T125618Z
LAST-MODIFIED:20181101T125618Z
UID:762-1562544000-1562975999@www.theavenueprimaryschool.co.uk
SUMMARY:Sports Week
DESCRIPTION:
URL:https://www.theavenueprimaryschool.co.uk/event/sports-week/
END:VEVENT
BEGIN:VEVENT
DTSTART;VALUE=DATE:20190708
DTEND;VALUE=DATE:20190709
DTSTAMP:20260426T042017
CREATED:20190501T102426Z
LAST-MODIFIED:20190501T102426Z
UID:1239-1562544000-1562630399@www.theavenueprimaryschool.co.uk
SUMMARY:Nunthorpe Transition
DESCRIPTION:
URL:https://www.theavenueprimaryschool.co.uk/event/nunthorpe-transition/
END:VEVENT
BEGIN:VEVENT
DTSTART;VALUE=DATE:20190705
DTEND;VALUE=DATE:20190706
DTSTAMP:20260426T042017
CREATED:20190501T102737Z
LAST-MODIFIED:20190501T102737Z
UID:1248-1562284800-1562371199@www.theavenueprimaryschool.co.uk
SUMMARY:Acklam Grange Transition
DESCRIPTION:
URL:https://www.theavenueprimaryschool.co.uk/event/acklam-grange-transition-5/
END:VEVENT
BEGIN:VEVENT
DTSTART;VALUE=DATE:20190704
DTEND;VALUE=DATE:20190705
DTSTAMP:20260426T042017
CREATED:20190501T102332Z
LAST-MODIFIED:20190501T102332Z
UID:1235-1562198400-1562284799@www.theavenueprimaryschool.co.uk
SUMMARY:Acklam Grange Transition
DESCRIPTION:
URL:https://www.theavenueprimaryschool.co.uk/event/acklam-grange-transition-3/
END:VEVENT
BEGIN:VEVENT
DTSTART;VALUE=DATE:20190703
DTEND;VALUE=DATE:20190704
DTSTAMP:20260426T042017
CREATED:20190501T102309Z
LAST-MODIFIED:20190501T102309Z
UID:1233-1562112000-1562198399@www.theavenueprimaryschool.co.uk
SUMMARY:Acklam Grange Transition
DESCRIPTION:
URL:https://www.theavenueprimaryschool.co.uk/event/acklam-grange-transition-2/
END:VEVENT
BEGIN:VEVENT
DTSTART;VALUE=DATE:20190703
DTEND;VALUE=DATE:20190704
DTSTAMP:20260426T042017
CREATED:20190501T102126Z
LAST-MODIFIED:20190501T102126Z
UID:1229-1562112000-1562198399@www.theavenueprimaryschool.co.uk
SUMMARY:Trinity Transition Day
DESCRIPTION:
URL:https://www.theavenueprimaryschool.co.uk/event/trinity-transition-day-2/
END:VEVENT
BEGIN:VEVENT
DTSTART;TZID=UTC:20190702T153000
DTEND;TZID=UTC:20190702T170000
DTSTAMP:20260426T042017
CREATED:20190430T090003Z
LAST-MODIFIED:20190430T090003Z
UID:1217-1562081400-1562086800@www.theavenueprimaryschool.co.uk
SUMMARY:Summer Fair-3:30pm
DESCRIPTION:
URL:https://www.theavenueprimaryschool.co.uk/event/summer-fair-330pm/
END:VEVENT
BEGIN:VEVENT
DTSTART;VALUE=DATE:20190702
DTEND;VALUE=DATE:20190703
DTSTAMP:20260426T042017
CREATED:20190501T102223Z
LAST-MODIFIED:20190501T102223Z
UID:1231-1562025600-1562111999@www.theavenueprimaryschool.co.uk
SUMMARY:Acklam Grange Transition
DESCRIPTION:
URL:https://www.theavenueprimaryschool.co.uk/event/acklam-grange-transition/
END:VEVENT
BEGIN:VEVENT
DTSTART;VALUE=DATE:20190702
DTEND;VALUE=DATE:20190703
DTSTAMP:20260426T042017
CREATED:20190501T102042Z
LAST-MODIFIED:20190501T102042Z
UID:1227-1562025600-1562111999@www.theavenueprimaryschool.co.uk
SUMMARY:Trinity Transition Day
DESCRIPTION:
URL:https://www.theavenueprimaryschool.co.uk/event/trinity-transition-day/
END:VEVENT
BEGIN:VEVENT
DTSTART;TZID=UTC:20190618T150000
DTEND;TZID=UTC:20190618T163000
DTSTAMP:20260426T042017
CREATED:20190604T133545Z
LAST-MODIFIED:20190604T145850Z
UID:1335-1560870000-1560875400@www.theavenueprimaryschool.co.uk
SUMMARY:Year 5 and 6- Q&A Session with Nunthorpe Academy
DESCRIPTION:
URL:https://www.theavenueprimaryschool.co.uk/event/year-5-and-6-a-qa-session-with-nunthorpe-academy/
END:VEVENT
BEGIN:VEVENT
DTSTART;VALUE=DATE:20190607
DTEND;VALUE=DATE:20190608
DTSTAMP:20260426T042017
CREATED:20190429T101831Z
LAST-MODIFIED:20190429T101831Z
UID:1209-1559865600-1559951999@www.theavenueprimaryschool.co.uk
SUMMARY:Year 6 Play in a day
DESCRIPTION:
URL:https://www.theavenueprimaryschool.co.uk/event/year-6-play-in-a-day/
END:VEVENT
BEGIN:VEVENT
DTSTART;VALUE=DATE:20190604
DTEND;VALUE=DATE:20190605
DTSTAMP:20260426T042017
CREATED:20190508T130316Z
LAST-MODIFIED:20190508T130316Z
UID:1307-1559606400-1559692799@www.theavenueprimaryschool.co.uk
SUMMARY:Y5/6SS and Y6SW Bowes Museum Trip
DESCRIPTION:
URL:https://www.theavenueprimaryschool.co.uk/event/y5-6ss-and-y6sw-bowes-museum-trip/
END:VEVENT
BEGIN:VEVENT
DTSTART;TZID=UTC:20190603T080000
DTEND;TZID=UTC:20190603T170000
DTSTAMP:20260426T042017
CREATED:20190430T085522Z
LAST-MODIFIED:20190430T085522Z
UID:1215-1559548800-1559581200@www.theavenueprimaryschool.co.uk
SUMMARY:Back to School
DESCRIPTION:
URL:https://www.theavenueprimaryschool.co.uk/event/back-to-school-5/
END:VEVENT
BEGIN:VEVENT
DTSTART;VALUE=DATE:20190601
DTEND;VALUE=DATE:20190602
DTSTAMP:20260426T042017
CREATED:20191114T115547Z
LAST-MODIFIED:20191114T115547Z
UID:1726-1559347200-1559433599@www.theavenueprimaryschool.co.uk
SUMMARY:PD Day
DESCRIPTION:
URL:https://www.theavenueprimaryschool.co.uk/event/pd-day-8/
END:VEVENT
BEGIN:VEVENT
DTSTART;VALUE=DATE:20190527
DTEND;VALUE=DATE:20190601
DTSTAMP:20260426T042017
CREATED:20181018T085456Z
LAST-MODIFIED:20181018T085456Z
UID:449-1558915200-1559347199@www.theavenueprimaryschool.co.uk
SUMMARY:Half Term
DESCRIPTION:
URL:https://www.theavenueprimaryschool.co.uk/event/half-term-2/
END:VEVENT
BEGIN:VEVENT
DTSTART;VALUE=DATE:20190524
DTEND;VALUE=DATE:20190525
DTSTAMP:20260426T042017
CREATED:20181018T084247Z
LAST-MODIFIED:20181018T084247Z
UID:441-1558656000-1558742399@www.theavenueprimaryschool.co.uk
SUMMARY:PD Day - School Closed to Children
DESCRIPTION:
URL:https://www.theavenueprimaryschool.co.uk/event/pd-day-school-closed-to-children/
END:VEVENT
BEGIN:VEVENT
DTSTART;VALUE=DATE:20190523
DTEND;VALUE=DATE:20190524
DTSTAMP:20260426T042017
CREATED:20190429T105401Z
LAST-MODIFIED:20190429T105401Z
UID:1211-1558569600-1558655999@www.theavenueprimaryschool.co.uk
SUMMARY:Possible Polling Day
DESCRIPTION:
URL:https://www.theavenueprimaryschool.co.uk/event/possible-polling-day/
END:VEVENT
BEGIN:VEVENT
DTSTART;VALUE=DATE:20190523
DTEND;VALUE=DATE:20190524
DTSTAMP:20260426T042017
CREATED:20181101T124943Z
LAST-MODIFIED:20181101T124943Z
UID:756-1558569600-1558655999@www.theavenueprimaryschool.co.uk
SUMMARY:Break up for Half Term
DESCRIPTION:
URL:https://www.theavenueprimaryschool.co.uk/event/break-up-for-half-term-3/
END:VEVENT
BEGIN:VEVENT
DTSTART;TZID=UTC:20190521T140000
DTEND;TZID=UTC:20190521T153000
DTSTAMP:20260426T042017
CREATED:20181101T124909Z
LAST-MODIFIED:20181101T124909Z
UID:754-1558447200-1558452600@www.theavenueprimaryschool.co.uk
SUMMARY:Nursery PM Stay and Play
DESCRIPTION:
URL:https://www.theavenueprimaryschool.co.uk/event/nursery-pm-stay-and-play-2/
END:VEVENT
BEGIN:VEVENT
DTSTART;TZID=UTC:20190521T103000
DTEND;TZID=UTC:20190521T113000
DTSTAMP:20260426T042017
CREATED:20181101T124805Z
LAST-MODIFIED:20181101T124805Z
UID:752-1558434600-1558438200@www.theavenueprimaryschool.co.uk
SUMMARY:Nursery AM Stay and Play
DESCRIPTION:
URL:https://www.theavenueprimaryschool.co.uk/event/nursery-am-stay-and-play-2/
END:VEVENT
END:VCALENDAR