   BEGIN:VCALENDAR
VERSION:2.0
PRODID:-//The Avenue - ECPv6.15.20//NONSGML v1.0//EN
CALSCALE:GREGORIAN
METHOD:PUBLISH
X-ORIGINAL-URL:https://www.theavenueprimaryschool.co.uk
X-WR-CALDESC:Events for The Avenue
REFRESH-INTERVAL;VALUE=DURATION:PT1H
X-Robots-Tag:noindex
X-PUBLISHED-TTL:PT1H
BEGIN:VTIMEZONE
TZID:UTC
BEGIN:STANDARD
TZOFFSETFROM:+0000
TZOFFSETTO:+0000
TZNAME:UTC
DTSTART:20180101T000000
END:STANDARD
END:VTIMEZONE
BEGIN:VEVENT
DTSTART;TZID=UTC:20191130T100000
DTEND;TZID=UTC:20191130T130000
DTSTAMP:20260425T232208
CREATED:20190916T085314Z
LAST-MODIFIED:20190916T085314Z
UID:1635-1575108000-1575118800@www.theavenueprimaryschool.co.uk
SUMMARY:Christmas Market
DESCRIPTION:
URL:https://www.theavenueprimaryschool.co.uk/event/christmas-market-2/
END:VEVENT
BEGIN:VEVENT
DTSTART;TZID=UTC:20191122T090000
DTEND;TZID=UTC:20191122T151500
DTSTAMP:20260425T232208
CREATED:20191120T141956Z
LAST-MODIFIED:20191120T141956Z
UID:1739-1574413200-1574435700@www.theavenueprimaryschool.co.uk
SUMMARY:Year 5 trip- Public Health Crucial Crew
DESCRIPTION:
URL:https://www.theavenueprimaryschool.co.uk/event/year-5-trip-public-health-crucial-crew/
END:VEVENT
BEGIN:VEVENT
DTSTART;VALUE=DATE:20191104
DTEND;VALUE=DATE:20191105
DTSTAMP:20260425T232208
CREATED:20190904T095736Z
LAST-MODIFIED:20190904T095736Z
UID:1519-1572825600-1572911999@www.theavenueprimaryschool.co.uk
SUMMARY:Back to School
DESCRIPTION:
URL:https://www.theavenueprimaryschool.co.uk/event/back-to-school-6/
END:VEVENT
BEGIN:VEVENT
DTSTART;TZID=UTC:20191026T100000
DTEND;TZID=UTC:20191026T123000
DTSTAMP:20260425T232208
CREATED:20190904T095648Z
LAST-MODIFIED:20190904T095648Z
UID:1517-1572084000-1572093000@www.theavenueprimaryschool.co.uk
SUMMARY:Baby Sale (Run by APPI)
DESCRIPTION:
URL:https://www.theavenueprimaryschool.co.uk/event/baby-sale-run-by-appi/
END:VEVENT
BEGIN:VEVENT
DTSTART;TZID=UTC:20191025T171500
DTEND;TZID=UTC:20191025T181500
DTSTAMP:20260425T232208
CREATED:20190916T084941Z
LAST-MODIFIED:20190916T084941Z
UID:1632-1572023700-1572027300@www.theavenueprimaryschool.co.uk
SUMMARY:Halloween Disco KS2
DESCRIPTION:
URL:https://www.theavenueprimaryschool.co.uk/event/halloween-disco-ks2-3/
END:VEVENT
BEGIN:VEVENT
DTSTART;TZID=UTC:20191025T160000
DTEND;TZID=UTC:20191025T170000
DTSTAMP:20260425T232208
CREATED:20190916T084859Z
LAST-MODIFIED:20190916T084859Z
UID:1630-1572019200-1572022800@www.theavenueprimaryschool.co.uk
SUMMARY:Halloween Disco EYFS/KS1
DESCRIPTION:
URL:https://www.theavenueprimaryschool.co.uk/event/halloween-disco-eyfs-ks1-3/
END:VEVENT
BEGIN:VEVENT
DTSTART;VALUE=DATE:20191025
DTEND;VALUE=DATE:20191026
DTSTAMP:20260425T232208
CREATED:20190904T095544Z
LAST-MODIFIED:20190904T095544Z
UID:1515-1571961600-1572047999@www.theavenueprimaryschool.co.uk
SUMMARY:Break up for Half Term
DESCRIPTION:
URL:https://www.theavenueprimaryschool.co.uk/event/break-up-for-half-term-4/
END:VEVENT
BEGIN:VEVENT
DTSTART;TZID=UTC:20191023T110000
DTEND;TZID=UTC:20191023T120000
DTSTAMP:20260425T232208
CREATED:20190627T132210Z
LAST-MODIFIED:20190627T132210Z
UID:1404-1571828400-1571832000@www.theavenueprimaryschool.co.uk
SUMMARY:Harvest Festival KS2
DESCRIPTION:
URL:https://www.theavenueprimaryschool.co.uk/event/harvest-festival-ks2/
END:VEVENT
BEGIN:VEVENT
DTSTART;TZID=UTC:20191023T093000
DTEND;TZID=UTC:20191023T103000
DTSTAMP:20260425T232208
CREATED:20190627T132124Z
LAST-MODIFIED:20190627T132124Z
UID:1402-1571823000-1571826600@www.theavenueprimaryschool.co.uk
SUMMARY:Harvest Festival KS1 and EYFS
DESCRIPTION:
URL:https://www.theavenueprimaryschool.co.uk/event/harvest-festival-ks1-and-eyfs/
END:VEVENT
BEGIN:VEVENT
DTSTART;TZID=UTC:20191017T143000
DTEND;TZID=UTC:20191017T153000
DTSTAMP:20260425T232208
CREATED:20190905T144602Z
LAST-MODIFIED:20190905T144602Z
UID:1553-1571322600-1571326200@www.theavenueprimaryschool.co.uk
SUMMARY:Nursery PM Stay and Play
DESCRIPTION:
URL:https://www.theavenueprimaryschool.co.uk/event/nursery-pm-stay-and-play-3/
END:VEVENT
BEGIN:VEVENT
DTSTART;TZID=UTC:20191017T103000
DTEND;TZID=UTC:20191017T113000
DTSTAMP:20260425T232208
CREATED:20190905T144516Z
LAST-MODIFIED:20190905T144516Z
UID:1551-1571308200-1571311800@www.theavenueprimaryschool.co.uk
SUMMARY:Nursery AM Stay and Play
DESCRIPTION:
URL:https://www.theavenueprimaryschool.co.uk/event/nursery-am-stay-and-play-3/
END:VEVENT
BEGIN:VEVENT
DTSTART;VALUE=DATE:20191014
DTEND;VALUE=DATE:20191015
DTSTAMP:20260425T232208
CREATED:20190627T131502Z
LAST-MODIFIED:20190627T131502Z
UID:1398-1571011200-1571097599@www.theavenueprimaryschool.co.uk
SUMMARY:Parents Evening Week
DESCRIPTION:
URL:https://www.theavenueprimaryschool.co.uk/event/parents-evening-week/
END:VEVENT
BEGIN:VEVENT
DTSTART;VALUE=DATE:20190927
DTEND;VALUE=DATE:20190928
DTSTAMP:20260425T232208
CREATED:20190909T113515Z
LAST-MODIFIED:20190909T113515Z
UID:1579-1569542400-1569628799@www.theavenueprimaryschool.co.uk
SUMMARY:Year 4 School trip to Roseberry Topping
DESCRIPTION:
URL:https://www.theavenueprimaryschool.co.uk/event/year-4-school-trip-to-roseberry-topping/
END:VEVENT
BEGIN:VEVENT
DTSTART;TZID=UTC:20190926T140000
DTEND;TZID=UTC:20190926T153000
DTSTAMP:20260425T232208
CREATED:20190910T073206Z
LAST-MODIFIED:20190910T073206Z
UID:1585-1569506400-1569511800@www.theavenueprimaryschool.co.uk
SUMMARY:KS1 Open Afternoon
DESCRIPTION:
URL:https://www.theavenueprimaryschool.co.uk/event/ks1-open-afternoon/
END:VEVENT
BEGIN:VEVENT
DTSTART;VALUE=DATE:20190923
DTEND;VALUE=DATE:20190924
DTSTAMP:20260425T232208
CREATED:20190916T083039Z
LAST-MODIFIED:20190916T083039Z
UID:1626-1569196800-1569283199@www.theavenueprimaryschool.co.uk
SUMMARY:Photograph Day
DESCRIPTION:
URL:https://www.theavenueprimaryschool.co.uk/event/photograph-day/
END:VEVENT
BEGIN:VEVENT
DTSTART;TZID=UTC:20190919T152000
DTEND;TZID=UTC:20190919T160000
DTSTAMP:20260425T232208
CREATED:20190910T073118Z
LAST-MODIFIED:20190910T073118Z
UID:1583-1568906400-1568908800@www.theavenueprimaryschool.co.uk
SUMMARY:Year 1 Phonics meeting in Miss Firman's Classroom
DESCRIPTION:
URL:https://www.theavenueprimaryschool.co.uk/event/year-1-phonics-meeting-in-miss-firmans-classroom/
END:VEVENT
BEGIN:VEVENT
DTSTART;TZID=UTC:20190917T153000
DTEND;TZID=UTC:20190917T160000
DTSTAMP:20260425T232208
CREATED:20190904T095023Z
LAST-MODIFIED:20190904T095138Z
UID:1509-1568734200-1568736000@www.theavenueprimaryschool.co.uk
SUMMARY:Phonics meeting- Reception
DESCRIPTION:
URL:https://www.theavenueprimaryschool.co.uk/event/phonics-meeting-reception/
END:VEVENT
BEGIN:VEVENT
DTSTART;TZID=UTC:20190916T133000
DTEND;TZID=UTC:20190916T150000
DTSTAMP:20260425T232208
CREATED:20190916T084611Z
LAST-MODIFIED:20190916T084611Z
UID:1628-1568640600-1568646000@www.theavenueprimaryschool.co.uk
SUMMARY:Reception Stay and Play
DESCRIPTION:
URL:https://www.theavenueprimaryschool.co.uk/event/reception-stay-and-play-2/
END:VEVENT
BEGIN:VEVENT
DTSTART;VALUE=DATE:20190905
DTEND;VALUE=DATE:20190906
DTSTAMP:20260425T232208
CREATED:20190903T151653Z
LAST-MODIFIED:20190903T151653Z
UID:1481-1567641600-1567727999@www.theavenueprimaryschool.co.uk
SUMMARY:Year 5- Guisbrough Woods trip
DESCRIPTION:
URL:https://www.theavenueprimaryschool.co.uk/event/year-5-guisbrough-woods-trip/
END:VEVENT
BEGIN:VEVENT
DTSTART;VALUE=DATE:20190902
DTEND;VALUE=DATE:20190903
DTSTAMP:20260425T232208
CREATED:20190704T133738Z
LAST-MODIFIED:20190704T133738Z
UID:1418-1567382400-1567468799@www.theavenueprimaryschool.co.uk
SUMMARY:PD day
DESCRIPTION:
URL:https://www.theavenueprimaryschool.co.uk/event/pd-day/
END:VEVENT
BEGIN:VEVENT
DTSTART;VALUE=DATE:20190722
DTEND;VALUE=DATE:20190724
DTSTAMP:20260425T232208
CREATED:20181018T084322Z
LAST-MODIFIED:20181018T084322Z
UID:443-1563753600-1563926399@www.theavenueprimaryschool.co.uk
SUMMARY:PD Day - School Closed to Children
DESCRIPTION:
URL:https://www.theavenueprimaryschool.co.uk/event/pd-day-school-closed-to-children-2/
END:VEVENT
BEGIN:VEVENT
DTSTART;TZID=UTC:20190719T080000
DTEND;TZID=UTC:20190719T150000
DTSTAMP:20260425T232208
CREATED:20190430T090552Z
LAST-MODIFIED:20190430T090552Z
UID:1219-1563523200-1563548400@www.theavenueprimaryschool.co.uk
SUMMARY:Break up for Summer
DESCRIPTION:
URL:https://www.theavenueprimaryschool.co.uk/event/break-up-for-summer/
END:VEVENT
BEGIN:VEVENT
DTSTART;VALUE=DATE:20190719
DTEND;VALUE=DATE:20190720
DTSTAMP:20260425T232208
CREATED:20190501T103351Z
LAST-MODIFIED:20190501T103351Z
UID:1261-1563494400-1563580799@www.theavenueprimaryschool.co.uk
SUMMARY:Nunthorpe Transition
DESCRIPTION:
URL:https://www.theavenueprimaryschool.co.uk/event/nunthorpe-transition-9/
END:VEVENT
BEGIN:VEVENT
DTSTART;TZID=UTC:20190718T133000
DTEND;TZID=UTC:20190718T143000
DTSTAMP:20260425T232208
CREATED:20190704T150813Z
LAST-MODIFIED:20190704T150813Z
UID:1430-1563456600-1563460200@www.theavenueprimaryschool.co.uk
SUMMARY:Nursery leavers Assembly- Afternoon Nursery 1:30 pm
DESCRIPTION:
URL:https://www.theavenueprimaryschool.co.uk/event/nursery-leavers-assembly-afternoon-nursery-130-pm/
END:VEVENT
BEGIN:VEVENT
DTSTART;TZID=UTC:20190718T100000
DTEND;TZID=UTC:20190718T110000
DTSTAMP:20260425T232208
CREATED:20190704T150637Z
LAST-MODIFIED:20190704T150637Z
UID:1428-1563444000-1563447600@www.theavenueprimaryschool.co.uk
SUMMARY:Nursery leavers Assembly- Morning Nursery 10:00 am
DESCRIPTION:
URL:https://www.theavenueprimaryschool.co.uk/event/nursery-leavers-assembly-morning-nursery-1000-am/
END:VEVENT
BEGIN:VEVENT
DTSTART;VALUE=DATE:20190718
DTEND;VALUE=DATE:20190719
DTSTAMP:20260425T232208
CREATED:20190501T103235Z
LAST-MODIFIED:20190501T103235Z
UID:1259-1563408000-1563494399@www.theavenueprimaryschool.co.uk
SUMMARY:Nunthorpe Transition
DESCRIPTION:
URL:https://www.theavenueprimaryschool.co.uk/event/nunthorpe-transition-8/
END:VEVENT
BEGIN:VEVENT
DTSTART;TZID=UTC:20190717T133000
DTEND;TZID=UTC:20190717T150000
DTSTAMP:20260425T232208
CREATED:20181101T125823Z
LAST-MODIFIED:20181101T125823Z
UID:768-1563370200-1563375600@www.theavenueprimaryschool.co.uk
SUMMARY:Open Afternoon
DESCRIPTION:
URL:https://www.theavenueprimaryschool.co.uk/event/open-afternoon-2/
END:VEVENT
BEGIN:VEVENT
DTSTART;TZID=UTC:20190717T133000
DTEND;TZID=UTC:20190717T143000
DTSTAMP:20260425T232208
CREATED:20190717T084454Z
LAST-MODIFIED:20190717T084454Z
UID:1467-1563370200-1563373800@www.theavenueprimaryschool.co.uk
SUMMARY:Sports Day
DESCRIPTION:
URL:https://www.theavenueprimaryschool.co.uk/event/sports-day-2/
END:VEVENT
BEGIN:VEVENT
DTSTART;VALUE=DATE:20190717
DTEND;VALUE=DATE:20190718
DTSTAMP:20260425T232208
CREATED:20190501T103156Z
LAST-MODIFIED:20190501T103156Z
UID:1257-1563321600-1563407999@www.theavenueprimaryschool.co.uk
SUMMARY:Nunthorpe Transition
DESCRIPTION:
URL:https://www.theavenueprimaryschool.co.uk/event/nunthorpe-transition-7/
END:VEVENT
BEGIN:VEVENT
DTSTART;VALUE=DATE:20190716
DTEND;VALUE=DATE:20190717
DTSTAMP:20260425T232208
CREATED:20190501T102938Z
LAST-MODIFIED:20190501T102938Z
UID:1254-1563235200-1563321599@www.theavenueprimaryschool.co.uk
SUMMARY:Nunthorpe Transition
DESCRIPTION:
URL:https://www.theavenueprimaryschool.co.uk/event/nunthorpe-transition-6/
END:VEVENT
END:VCALENDAR