   BEGIN:VCALENDAR
VERSION:2.0
PRODID:-//The Avenue - ECPv6.15.20//NONSGML v1.0//EN
CALSCALE:GREGORIAN
METHOD:PUBLISH
X-WR-CALNAME:The Avenue
X-ORIGINAL-URL:https://www.theavenueprimaryschool.co.uk
X-WR-CALDESC:Events for The Avenue
REFRESH-INTERVAL;VALUE=DURATION:PT1H
X-Robots-Tag:noindex
X-PUBLISHED-TTL:PT1H
BEGIN:VTIMEZONE
TZID:UTC
BEGIN:STANDARD
TZOFFSETFROM:+0000
TZOFFSETTO:+0000
TZNAME:UTC
DTSTART:20180101T000000
END:STANDARD
END:VTIMEZONE
BEGIN:VEVENT
DTSTART;TZID=UTC:20191219T133000
DTEND;TZID=UTC:20191219T140000
DTSTAMP:20260425T195555
CREATED:20190627T130105Z
LAST-MODIFIED:20190627T130105Z
UID:1394-1576762200-1576764000@www.theavenueprimaryschool.co.uk
SUMMARY:Christmas Carol concert at Nunthorpe Methodist Church KS1 and Reception
DESCRIPTION:
URL:https://www.theavenueprimaryschool.co.uk/event/christmas-carol-concert-at-nunthorpe-methodist-church-ks1-and-reception/
END:VEVENT
BEGIN:VEVENT
DTSTART;TZID=UTC:20191219T130000
DTEND;TZID=UTC:20191219T150000
DTSTAMP:20260425T195555
CREATED:20190904T100651Z
LAST-MODIFIED:20190904T100651Z
UID:1533-1576760400-1576767600@www.theavenueprimaryschool.co.uk
SUMMARY:Year 6 Christmas Party
DESCRIPTION:
URL:https://www.theavenueprimaryschool.co.uk/event/year-6-christmas-party/
END:VEVENT
BEGIN:VEVENT
DTSTART;TZID=UTC:20191219T130000
DTEND;TZID=UTC:20191219T150000
DTSTAMP:20260425T195555
CREATED:20190904T100617Z
LAST-MODIFIED:20190904T100617Z
UID:1531-1576760400-1576767600@www.theavenueprimaryschool.co.uk
SUMMARY:Year 5 Christmas Party
DESCRIPTION:
URL:https://www.theavenueprimaryschool.co.uk/event/year-5-christmas-party/
END:VEVENT
BEGIN:VEVENT
DTSTART;VALUE=DATE:20191219
DTEND;VALUE=DATE:20191220
DTSTAMP:20260425T195555
CREATED:20190916T090229Z
LAST-MODIFIED:20190916T090229Z
UID:1648-1576713600-1576799999@www.theavenueprimaryschool.co.uk
SUMMARY:Year 3 Christmas Party
DESCRIPTION:
URL:https://www.theavenueprimaryschool.co.uk/event/year-3-christmas-party/
END:VEVENT
BEGIN:VEVENT
DTSTART;TZID=UTC:20191218T133000
DTEND;TZID=UTC:20191218T150000
DTSTAMP:20260425T195555
CREATED:20190627T125750Z
LAST-MODIFIED:20190627T125750Z
UID:1390-1576675800-1576681200@www.theavenueprimaryschool.co.uk
SUMMARY:Reception Christmas Party
DESCRIPTION:
URL:https://www.theavenueprimaryschool.co.uk/event/reception-christmas-party-2/
END:VEVENT
BEGIN:VEVENT
DTSTART;TZID=UTC:20191218T013000
DTEND;TZID=UTC:20191218T140000
DTSTAMP:20260425T195555
CREATED:20190627T125955Z
LAST-MODIFIED:20190627T125955Z
UID:1392-1576632600-1576677600@www.theavenueprimaryschool.co.uk
SUMMARY:Christmas Carol concert at Nunthorpe Methodist Church KS2
DESCRIPTION:
URL:https://www.theavenueprimaryschool.co.uk/event/christmas-carol-concert-at-nunthorpe-methodist-church-ks2/
END:VEVENT
BEGIN:VEVENT
DTSTART;TZID=UTC:20191217T133000
DTEND;TZID=UTC:20191217T150000
DTSTAMP:20260425T195555
CREATED:20190627T125632Z
LAST-MODIFIED:20190627T125632Z
UID:1388-1576589400-1576594800@www.theavenueprimaryschool.co.uk
SUMMARY:Y1 Christmas Party
DESCRIPTION:
URL:https://www.theavenueprimaryschool.co.uk/event/y1-christmas-party/
END:VEVENT
BEGIN:VEVENT
DTSTART;TZID=UTC:20191217T130000
DTEND;TZID=UTC:20191217T150000
DTSTAMP:20260425T195555
CREATED:20190916T090346Z
LAST-MODIFIED:20190916T090346Z
UID:1650-1576587600-1576594800@www.theavenueprimaryschool.co.uk
SUMMARY:Year 4 Christmas Party
DESCRIPTION:
URL:https://www.theavenueprimaryschool.co.uk/event/year-4-christmas-party/
END:VEVENT
BEGIN:VEVENT
DTSTART;TZID=UTC:20191216T133000
DTEND;TZID=UTC:20191216T150000
DTSTAMP:20260425T195555
CREATED:20190627T125534Z
LAST-MODIFIED:20190627T125534Z
UID:1386-1576503000-1576508400@www.theavenueprimaryschool.co.uk
SUMMARY:Year 2 Christmas Party
DESCRIPTION:
URL:https://www.theavenueprimaryschool.co.uk/event/year-2-christmas-party-2/
END:VEVENT
BEGIN:VEVENT
DTSTART;VALUE=DATE:20191216
DTEND;VALUE=DATE:20191217
DTSTAMP:20260425T195555
CREATED:20190916T090050Z
LAST-MODIFIED:20190916T090050Z
UID:1645-1576454400-1576540799@www.theavenueprimaryschool.co.uk
SUMMARY:Nursery Christmas Party
DESCRIPTION:
URL:https://www.theavenueprimaryschool.co.uk/event/nursery-christmas-party/
END:VEVENT
BEGIN:VEVENT
DTSTART;VALUE=DATE:20191216
DTEND;VALUE=DATE:20191217
DTSTAMP:20260425T195555
CREATED:20190627T125251Z
LAST-MODIFIED:20190627T125251Z
UID:1384-1576454400-1576540799@www.theavenueprimaryschool.co.uk
SUMMARY:Christmas Party Week
DESCRIPTION:
URL:https://www.theavenueprimaryschool.co.uk/event/christmas-party-week/
END:VEVENT
BEGIN:VEVENT
DTSTART;TZID=UTC:20191213T120000
DTEND;TZID=UTC:20191213T130000
DTSTAMP:20260425T195555
CREATED:20190916T085946Z
LAST-MODIFIED:20191114T131418Z
UID:1643-1576238400-1576242000@www.theavenueprimaryschool.co.uk
SUMMARY:Christmas Dinner Day
DESCRIPTION:
URL:https://www.theavenueprimaryschool.co.uk/event/christmas-dinner-day-2/
END:VEVENT
BEGIN:VEVENT
DTSTART;TZID=UTC:20191213T100000
DTEND;TZID=UTC:20191213T110000
DTSTAMP:20260425T195555
CREATED:20190916T085854Z
LAST-MODIFIED:20191114T131518Z
UID:1641-1576231200-1576234800@www.theavenueprimaryschool.co.uk
SUMMARY:KS2 Performance
DESCRIPTION:
URL:https://www.theavenueprimaryschool.co.uk/event/ks2-performance-2/
END:VEVENT
BEGIN:VEVENT
DTSTART;VALUE=DATE:20191212
DTEND;VALUE=DATE:20191213
DTSTAMP:20260425T195555
CREATED:20191114T131800Z
LAST-MODIFIED:20191114T131800Z
UID:1732-1576108800-1576195199@www.theavenueprimaryschool.co.uk
SUMMARY:Polling Day- School Closed
DESCRIPTION:
URL:https://www.theavenueprimaryschool.co.uk/event/polling-day-school-closed-2/
END:VEVENT
BEGIN:VEVENT
DTSTART;TZID=UTC:20191211T140000
DTEND;TZID=UTC:20191211T150000
DTSTAMP:20260425T195555
CREATED:20190904T100413Z
LAST-MODIFIED:20190904T100413Z
UID:1529-1576072800-1576076400@www.theavenueprimaryschool.co.uk
SUMMARY:KS2 performance
DESCRIPTION:
URL:https://www.theavenueprimaryschool.co.uk/event/ks2-performance/
END:VEVENT
BEGIN:VEVENT
DTSTART;TZID=UTC:20191211T100000
DTEND;TZID=UTC:20191211T110000
DTSTAMP:20260425T195555
CREATED:20190904T100336Z
LAST-MODIFIED:20190904T100336Z
UID:1527-1576058400-1576062000@www.theavenueprimaryschool.co.uk
SUMMARY:Reception Nativity
DESCRIPTION:
URL:https://www.theavenueprimaryschool.co.uk/event/reception-nativity-2/
END:VEVENT
BEGIN:VEVENT
DTSTART;TZID=UTC:20191210T140000
DTEND;TZID=UTC:20191210T153000
DTSTAMP:20260425T195555
CREATED:20190916T085747Z
LAST-MODIFIED:20190916T085747Z
UID:1639-1575986400-1575991800@www.theavenueprimaryschool.co.uk
SUMMARY:Nursery Christmas Enrichment- PM Children
DESCRIPTION:
URL:https://www.theavenueprimaryschool.co.uk/event/nursery-christmas-enrichment-pm-children/
END:VEVENT
BEGIN:VEVENT
DTSTART;TZID=UTC:20191210T140000
DTEND;TZID=UTC:20191210T150000
DTSTAMP:20260425T195555
CREATED:20190904T100001Z
LAST-MODIFIED:20190904T100001Z
UID:1521-1575986400-1575990000@www.theavenueprimaryschool.co.uk
SUMMARY:Reception Nativity
DESCRIPTION:
URL:https://www.theavenueprimaryschool.co.uk/event/reception-nativity/
END:VEVENT
BEGIN:VEVENT
DTSTART;TZID=UTC:20191210T100000
DTEND;TZID=UTC:20191210T233000
DTSTAMP:20260425T195555
CREATED:20190916T085704Z
LAST-MODIFIED:20190916T085704Z
UID:1637-1575972000-1576020600@www.theavenueprimaryschool.co.uk
SUMMARY:Nursery Christmas enrichment- AM Children
DESCRIPTION:
URL:https://www.theavenueprimaryschool.co.uk/event/nursery-christmas-enrichment-am-children/
END:VEVENT
BEGIN:VEVENT
DTSTART;TZID=UTC:20191209T140000
DTEND;TZID=UTC:20191209T150000
DTSTAMP:20260425T195555
CREATED:20190627T125109Z
LAST-MODIFIED:20190627T125109Z
UID:1380-1575900000-1575903600@www.theavenueprimaryschool.co.uk
SUMMARY:KS1 Performance
DESCRIPTION:
URL:https://www.theavenueprimaryschool.co.uk/event/ks1-performance/
END:VEVENT
BEGIN:VEVENT
DTSTART;TZID=UTC:20191130T100000
DTEND;TZID=UTC:20191130T130000
DTSTAMP:20260425T195555
CREATED:20190916T085314Z
LAST-MODIFIED:20190916T085314Z
UID:1635-1575108000-1575118800@www.theavenueprimaryschool.co.uk
SUMMARY:Christmas Market
DESCRIPTION:
URL:https://www.theavenueprimaryschool.co.uk/event/christmas-market-2/
END:VEVENT
BEGIN:VEVENT
DTSTART;TZID=UTC:20191122T090000
DTEND;TZID=UTC:20191122T151500
DTSTAMP:20260425T195555
CREATED:20191120T141956Z
LAST-MODIFIED:20191120T141956Z
UID:1739-1574413200-1574435700@www.theavenueprimaryschool.co.uk
SUMMARY:Year 5 trip- Public Health Crucial Crew
DESCRIPTION:
URL:https://www.theavenueprimaryschool.co.uk/event/year-5-trip-public-health-crucial-crew/
END:VEVENT
BEGIN:VEVENT
DTSTART;VALUE=DATE:20191104
DTEND;VALUE=DATE:20191105
DTSTAMP:20260425T195555
CREATED:20190904T095736Z
LAST-MODIFIED:20190904T095736Z
UID:1519-1572825600-1572911999@www.theavenueprimaryschool.co.uk
SUMMARY:Back to School
DESCRIPTION:
URL:https://www.theavenueprimaryschool.co.uk/event/back-to-school-6/
END:VEVENT
BEGIN:VEVENT
DTSTART;TZID=UTC:20191026T100000
DTEND;TZID=UTC:20191026T123000
DTSTAMP:20260425T195555
CREATED:20190904T095648Z
LAST-MODIFIED:20190904T095648Z
UID:1517-1572084000-1572093000@www.theavenueprimaryschool.co.uk
SUMMARY:Baby Sale (Run by APPI)
DESCRIPTION:
URL:https://www.theavenueprimaryschool.co.uk/event/baby-sale-run-by-appi/
END:VEVENT
BEGIN:VEVENT
DTSTART;TZID=UTC:20191025T171500
DTEND;TZID=UTC:20191025T181500
DTSTAMP:20260425T195555
CREATED:20190916T084941Z
LAST-MODIFIED:20190916T084941Z
UID:1632-1572023700-1572027300@www.theavenueprimaryschool.co.uk
SUMMARY:Halloween Disco KS2
DESCRIPTION:
URL:https://www.theavenueprimaryschool.co.uk/event/halloween-disco-ks2-3/
END:VEVENT
BEGIN:VEVENT
DTSTART;TZID=UTC:20191025T160000
DTEND;TZID=UTC:20191025T170000
DTSTAMP:20260425T195555
CREATED:20190916T084859Z
LAST-MODIFIED:20190916T084859Z
UID:1630-1572019200-1572022800@www.theavenueprimaryschool.co.uk
SUMMARY:Halloween Disco EYFS/KS1
DESCRIPTION:
URL:https://www.theavenueprimaryschool.co.uk/event/halloween-disco-eyfs-ks1-3/
END:VEVENT
BEGIN:VEVENT
DTSTART;VALUE=DATE:20191025
DTEND;VALUE=DATE:20191026
DTSTAMP:20260425T195555
CREATED:20190904T095544Z
LAST-MODIFIED:20190904T095544Z
UID:1515-1571961600-1572047999@www.theavenueprimaryschool.co.uk
SUMMARY:Break up for Half Term
DESCRIPTION:
URL:https://www.theavenueprimaryschool.co.uk/event/break-up-for-half-term-4/
END:VEVENT
BEGIN:VEVENT
DTSTART;TZID=UTC:20191023T110000
DTEND;TZID=UTC:20191023T120000
DTSTAMP:20260425T195555
CREATED:20190627T132210Z
LAST-MODIFIED:20190627T132210Z
UID:1404-1571828400-1571832000@www.theavenueprimaryschool.co.uk
SUMMARY:Harvest Festival KS2
DESCRIPTION:
URL:https://www.theavenueprimaryschool.co.uk/event/harvest-festival-ks2/
END:VEVENT
BEGIN:VEVENT
DTSTART;TZID=UTC:20191023T093000
DTEND;TZID=UTC:20191023T103000
DTSTAMP:20260425T195555
CREATED:20190627T132124Z
LAST-MODIFIED:20190627T132124Z
UID:1402-1571823000-1571826600@www.theavenueprimaryschool.co.uk
SUMMARY:Harvest Festival KS1 and EYFS
DESCRIPTION:
URL:https://www.theavenueprimaryschool.co.uk/event/harvest-festival-ks1-and-eyfs/
END:VEVENT
BEGIN:VEVENT
DTSTART;TZID=UTC:20191017T143000
DTEND;TZID=UTC:20191017T153000
DTSTAMP:20260425T195555
CREATED:20190905T144602Z
LAST-MODIFIED:20190905T144602Z
UID:1553-1571322600-1571326200@www.theavenueprimaryschool.co.uk
SUMMARY:Nursery PM Stay and Play
DESCRIPTION:
URL:https://www.theavenueprimaryschool.co.uk/event/nursery-pm-stay-and-play-3/
END:VEVENT
END:VCALENDAR