   BEGIN:VCALENDAR
VERSION:2.0
PRODID:-//The Avenue - ECPv6.15.20//NONSGML v1.0//EN
CALSCALE:GREGORIAN
METHOD:PUBLISH
X-ORIGINAL-URL:https://www.theavenueprimaryschool.co.uk
X-WR-CALDESC:Events for The Avenue
REFRESH-INTERVAL;VALUE=DURATION:PT1H
X-Robots-Tag:noindex
X-PUBLISHED-TTL:PT1H
BEGIN:VTIMEZONE
TZID:UTC
BEGIN:STANDARD
TZOFFSETFROM:+0000
TZOFFSETTO:+0000
TZNAME:UTC
DTSTART:20190101T000000
END:STANDARD
END:VTIMEZONE
BEGIN:VEVENT
DTSTART;VALUE=DATE:20200409
DTEND;VALUE=DATE:20200410
DTSTAMP:20260425T120710
CREATED:20200106T103357Z
LAST-MODIFIED:20200106T103357Z
UID:1830-1586390400-1586476799@www.theavenueprimaryschool.co.uk
SUMMARY:Easter Holidays
DESCRIPTION:
URL:https://www.theavenueprimaryschool.co.uk/event/easter-holidays-6/
END:VEVENT
BEGIN:VEVENT
DTSTART;VALUE=DATE:20200408
DTEND;VALUE=DATE:20200409
DTSTAMP:20260425T120710
CREATED:20200106T103337Z
LAST-MODIFIED:20200106T103337Z
UID:1828-1586304000-1586390399@www.theavenueprimaryschool.co.uk
SUMMARY:Easter Holidays
DESCRIPTION:
URL:https://www.theavenueprimaryschool.co.uk/event/easter-holidays-5/
END:VEVENT
BEGIN:VEVENT
DTSTART;VALUE=DATE:20200407
DTEND;VALUE=DATE:20200408
DTSTAMP:20260425T120710
CREATED:20200106T103306Z
LAST-MODIFIED:20200106T103306Z
UID:1824-1586217600-1586303999@www.theavenueprimaryschool.co.uk
SUMMARY:Easter Holidays
DESCRIPTION:
URL:https://www.theavenueprimaryschool.co.uk/event/easter-holidays-3/
END:VEVENT
BEGIN:VEVENT
DTSTART;VALUE=DATE:20200406
DTEND;VALUE=DATE:20200407
DTSTAMP:20260425T120710
CREATED:20200106T103251Z
LAST-MODIFIED:20200106T103251Z
UID:1822-1586131200-1586217599@www.theavenueprimaryschool.co.uk
SUMMARY:Easter Holidays
DESCRIPTION:
URL:https://www.theavenueprimaryschool.co.uk/event/easter-holidays-2/
END:VEVENT
BEGIN:VEVENT
DTSTART;TZID=UTC:20200403T133000
DTEND;TZID=UTC:20200403T150000
DTSTAMP:20260425T120710
CREATED:20200204T092947Z
LAST-MODIFIED:20200228T145213Z
UID:1920-1585920600-1585926000@www.theavenueprimaryschool.co.uk
SUMMARY:Year 1-6 Easter Crafts Afternoon-Parents Welcome
DESCRIPTION:
URL:https://www.theavenueprimaryschool.co.uk/event/year-1-6-christmas-crafts-afternoon-parents-welcome/
END:VEVENT
BEGIN:VEVENT
DTSTART;TZID=UTC:20200402T133000
DTEND;TZID=UTC:20200402T150000
DTSTAMP:20260425T120710
CREATED:20190627T132532Z
LAST-MODIFIED:20190627T132532Z
UID:1408-1585834200-1585839600@www.theavenueprimaryschool.co.uk
SUMMARY:Reception Stay and Play
DESCRIPTION:
URL:https://www.theavenueprimaryschool.co.uk/event/reception-stay-and-play-3/
END:VEVENT
BEGIN:VEVENT
DTSTART;TZID=UTC:20200402T080000
DTEND;TZID=UTC:20200402T170000
DTSTAMP:20260425T120710
CREATED:20190904T101148Z
LAST-MODIFIED:20190904T101148Z
UID:1541-1585814400-1585846800@www.theavenueprimaryschool.co.uk
SUMMARY:Easter Egg Hunt
DESCRIPTION:
URL:https://www.theavenueprimaryschool.co.uk/event/easter-egg-hunt/
END:VEVENT
BEGIN:VEVENT
DTSTART;TZID=UTC:20200331T143000
DTEND;TZID=UTC:20200331T153000
DTSTAMP:20260425T120710
CREATED:20190905T144852Z
LAST-MODIFIED:20190905T144852Z
UID:1557-1585665000-1585668600@www.theavenueprimaryschool.co.uk
SUMMARY:Nursery PM Stay and Play
DESCRIPTION:
URL:https://www.theavenueprimaryschool.co.uk/event/nursery-pm-stay-and-play-4/
END:VEVENT
BEGIN:VEVENT
DTSTART;TZID=UTC:20200331T103000
DTEND;TZID=UTC:20200331T113000
DTSTAMP:20260425T120710
CREATED:20190905T144646Z
LAST-MODIFIED:20190905T144646Z
UID:1555-1585650600-1585654200@www.theavenueprimaryschool.co.uk
SUMMARY:Nursery AM Stay and Play
DESCRIPTION:
URL:https://www.theavenueprimaryschool.co.uk/event/nursery-am-stay-and-play-4/
END:VEVENT
BEGIN:VEVENT
DTSTART;VALUE=DATE:20200312
DTEND;VALUE=DATE:20200313
DTSTAMP:20260425T120710
CREATED:20200214T130737Z
LAST-MODIFIED:20200214T130737Z
UID:1934-1583971200-1584057599@www.theavenueprimaryschool.co.uk
SUMMARY:Y5- Ryedale Folk Museum School Trip
DESCRIPTION:
URL:https://www.theavenueprimaryschool.co.uk/event/y5-ryedale-folk-museum-school-trip/
END:VEVENT
BEGIN:VEVENT
DTSTART;VALUE=DATE:20200305
DTEND;VALUE=DATE:20200306
DTSTAMP:20260425T120710
CREATED:20190627T131647Z
LAST-MODIFIED:20190627T131647Z
UID:1400-1583366400-1583452799@www.theavenueprimaryschool.co.uk
SUMMARY:World Book Day
DESCRIPTION:
URL:https://www.theavenueprimaryschool.co.uk/event/world-book-day-2/
END:VEVENT
BEGIN:VEVENT
DTSTART;TZID=UTC:20200302T100000
DTEND;TZID=UTC:20200302T120000
DTSTAMP:20260425T120710
CREATED:20200228T144646Z
LAST-MODIFIED:20200228T145039Z
UID:1948-1583143200-1583150400@www.theavenueprimaryschool.co.uk
SUMMARY:Year 2- Library Trip AM
DESCRIPTION:
URL:https://www.theavenueprimaryschool.co.uk/event/year-2-library-trip/
END:VEVENT
BEGIN:VEVENT
DTSTART;TZID=UTC:20200302T093000
DTEND;TZID=UTC:20200302T123000
DTSTAMP:20260425T120710
CREATED:20200228T144807Z
LAST-MODIFIED:20200228T144807Z
UID:1950-1583141400-1583152200@www.theavenueprimaryschool.co.uk
SUMMARY:Year 5-World Book Day event at the Town Hall
DESCRIPTION:
URL:https://www.theavenueprimaryschool.co.uk/event/year-5-world-book-day-event-at-the-town-hall/
END:VEVENT
BEGIN:VEVENT
DTSTART;TZID=UTC:20200225T130000
DTEND;TZID=UTC:20200225T150000
DTSTAMP:20260425T120710
CREATED:20200214T130656Z
LAST-MODIFIED:20200214T130656Z
UID:1932-1582635600-1582642800@www.theavenueprimaryschool.co.uk
SUMMARY:Y3 Mr Joy- Marton Library PM
DESCRIPTION:
URL:https://www.theavenueprimaryschool.co.uk/event/y3-mr-joy-marton-library-pm/
END:VEVENT
BEGIN:VEVENT
DTSTART;TZID=UTC:20200225T090000
DTEND;TZID=UTC:20200225T110000
DTSTAMP:20260425T120710
CREATED:20200214T130553Z
LAST-MODIFIED:20200214T130553Z
UID:1930-1582621200-1582628400@www.theavenueprimaryschool.co.uk
SUMMARY:Y3 Miss Hunwick- Marton Library AM
DESCRIPTION:
URL:https://www.theavenueprimaryschool.co.uk/event/y3-miss-hunwick-marton-library-am/
END:VEVENT
BEGIN:VEVENT
DTSTART;VALUE=DATE:20200225
DTEND;VALUE=DATE:20200226
DTSTAMP:20260425T120710
CREATED:20200214T130512Z
LAST-MODIFIED:20200214T130512Z
UID:1928-1582588800-1582675199@www.theavenueprimaryschool.co.uk
SUMMARY:Y4 Viking Day
DESCRIPTION:
URL:https://www.theavenueprimaryschool.co.uk/event/y4-viking-day/
END:VEVENT
BEGIN:VEVENT
DTSTART;VALUE=DATE:20200225
DTEND;VALUE=DATE:20200226
DTSTAMP:20260425T120710
CREATED:20200214T130447Z
LAST-MODIFIED:20200214T130447Z
UID:1926-1582588800-1582675199@www.theavenueprimaryschool.co.uk
SUMMARY:Y6 Eden Camp School Trip
DESCRIPTION:
URL:https://www.theavenueprimaryschool.co.uk/event/y6-eden-camp-school-trip/
END:VEVENT
BEGIN:VEVENT
DTSTART;VALUE=DATE:20200221
DTEND;VALUE=DATE:20200222
DTSTAMP:20260425T120710
CREATED:20200106T103029Z
LAST-MODIFIED:20200106T103029Z
UID:1820-1582243200-1582329599@www.theavenueprimaryschool.co.uk
SUMMARY:February Half Term
DESCRIPTION:
URL:https://www.theavenueprimaryschool.co.uk/event/february-half-term-5/
END:VEVENT
BEGIN:VEVENT
DTSTART;VALUE=DATE:20200220
DTEND;VALUE=DATE:20200221
DTSTAMP:20260425T120710
CREATED:20200106T103012Z
LAST-MODIFIED:20200106T103012Z
UID:1818-1582156800-1582243199@www.theavenueprimaryschool.co.uk
SUMMARY:February Half Term
DESCRIPTION:
URL:https://www.theavenueprimaryschool.co.uk/event/february-half-term-4/
END:VEVENT
BEGIN:VEVENT
DTSTART;VALUE=DATE:20200219
DTEND;VALUE=DATE:20200220
DTSTAMP:20260425T120710
CREATED:20200106T102957Z
LAST-MODIFIED:20200106T102957Z
UID:1816-1582070400-1582156799@www.theavenueprimaryschool.co.uk
SUMMARY:February Half Term
DESCRIPTION:
URL:https://www.theavenueprimaryschool.co.uk/event/february-half-term-3/
END:VEVENT
BEGIN:VEVENT
DTSTART;VALUE=DATE:20200218
DTEND;VALUE=DATE:20200219
DTSTAMP:20260425T120710
CREATED:20200106T102938Z
LAST-MODIFIED:20200106T102938Z
UID:1814-1581984000-1582070399@www.theavenueprimaryschool.co.uk
SUMMARY:February Half Term
DESCRIPTION:
URL:https://www.theavenueprimaryschool.co.uk/event/february-half-term-2/
END:VEVENT
BEGIN:VEVENT
DTSTART;VALUE=DATE:20200217
DTEND;VALUE=DATE:20200218
DTSTAMP:20260425T120710
CREATED:20200106T102922Z
LAST-MODIFIED:20200106T102922Z
UID:1812-1581897600-1581983999@www.theavenueprimaryschool.co.uk
SUMMARY:February Half Term
DESCRIPTION:
URL:https://www.theavenueprimaryschool.co.uk/event/february-half-term/
END:VEVENT
BEGIN:VEVENT
DTSTART;VALUE=DATE:20200214
DTEND;VALUE=DATE:20200215
DTSTAMP:20260425T120710
CREATED:20191114T114817Z
LAST-MODIFIED:20191114T132059Z
UID:1720-1581638400-1581724799@www.theavenueprimaryschool.co.uk
SUMMARY:PD day- School Closed for Children
DESCRIPTION:
URL:https://www.theavenueprimaryschool.co.uk/event/pd-day-5/
END:VEVENT
BEGIN:VEVENT
DTSTART;VALUE=DATE:20200212
DTEND;VALUE=DATE:20200213
DTSTAMP:20260425T120710
CREATED:20200108T112709Z
LAST-MODIFIED:20200108T112709Z
UID:1886-1581465600-1581551999@www.theavenueprimaryschool.co.uk
SUMMARY:Pedestrian Training for Year 3
DESCRIPTION:
URL:https://www.theavenueprimaryschool.co.uk/event/pedestrian-training-for-year-3-3/
END:VEVENT
BEGIN:VEVENT
DTSTART;VALUE=DATE:20200211
DTEND;VALUE=DATE:20200212
DTSTAMP:20260425T120710
CREATED:20200108T112647Z
LAST-MODIFIED:20200108T112647Z
UID:1884-1581379200-1581465599@www.theavenueprimaryschool.co.uk
SUMMARY:Pedestrian Training for Year 3
DESCRIPTION:
URL:https://www.theavenueprimaryschool.co.uk/event/pedestrian-training-for-year-3-2/
END:VEVENT
BEGIN:VEVENT
DTSTART;VALUE=DATE:20200210
DTEND;VALUE=DATE:20200211
DTSTAMP:20260425T120710
CREATED:20200108T112632Z
LAST-MODIFIED:20200108T112632Z
UID:1882-1581292800-1581379199@www.theavenueprimaryschool.co.uk
SUMMARY:Pedestrian Training for Year 3
DESCRIPTION:
URL:https://www.theavenueprimaryschool.co.uk/event/pedestrian-training-for-year-3/
END:VEVENT
BEGIN:VEVENT
DTSTART;VALUE=DATE:20200210
DTEND;VALUE=DATE:20200211
DTSTAMP:20260425T120710
CREATED:20200108T112555Z
LAST-MODIFIED:20200108T112555Z
UID:1880-1581292800-1581379199@www.theavenueprimaryschool.co.uk
SUMMARY:Parents Evening Week
DESCRIPTION:
URL:https://www.theavenueprimaryschool.co.uk/event/parents-evening-week-2/
END:VEVENT
BEGIN:VEVENT
DTSTART;TZID=UTC:20200131T100000
DTEND;TZID=UTC:20200131T110000
DTSTAMP:20260425T120710
CREATED:20200106T095059Z
LAST-MODIFIED:20200106T095059Z
UID:1808-1580464800-1580468400@www.theavenueprimaryschool.co.uk
SUMMARY:Miss Hunwicks class swimming lessons
DESCRIPTION:
URL:https://www.theavenueprimaryschool.co.uk/event/miss-hunwicks-class-swimming-lessons-9/
END:VEVENT
BEGIN:VEVENT
DTSTART;TZID=UTC:20200130T100000
DTEND;TZID=UTC:20200130T110000
DTSTAMP:20260425T120710
CREATED:20200106T095132Z
LAST-MODIFIED:20200106T095132Z
UID:1810-1580378400-1580382000@www.theavenueprimaryschool.co.uk
SUMMARY:Miss Hunwicks class swimming lessons
DESCRIPTION:
URL:https://www.theavenueprimaryschool.co.uk/event/miss-hunwicks-class-swimming-lessons-10/
END:VEVENT
BEGIN:VEVENT
DTSTART;TZID=UTC:20200129T100000
DTEND;TZID=UTC:20200129T110000
DTSTAMP:20260425T120710
CREATED:20200106T094841Z
LAST-MODIFIED:20200106T094841Z
UID:1805-1580292000-1580295600@www.theavenueprimaryschool.co.uk
SUMMARY:Miss Hunwicks class swimming lessons
DESCRIPTION:
URL:https://www.theavenueprimaryschool.co.uk/event/miss-hunwicks-class-swimming-lessons-8/
END:VEVENT
END:VCALENDAR