   BEGIN:VCALENDAR
VERSION:2.0
PRODID:-//The Avenue - ECPv6.15.20//NONSGML v1.0//EN
CALSCALE:GREGORIAN
METHOD:PUBLISH
X-WR-CALNAME:The Avenue
X-ORIGINAL-URL:https://www.theavenueprimaryschool.co.uk
X-WR-CALDESC:Events for The Avenue
REFRESH-INTERVAL;VALUE=DURATION:PT1H
X-Robots-Tag:noindex
X-PUBLISHED-TTL:PT1H
BEGIN:VTIMEZONE
TZID:UTC
BEGIN:STANDARD
TZOFFSETFROM:+0000
TZOFFSETTO:+0000
TZNAME:UTC
DTSTART:20190101T000000
END:STANDARD
END:VTIMEZONE
BEGIN:VEVENT
DTSTART;VALUE=DATE:20210212
DTEND;VALUE=DATE:20210213
DTSTAMP:20260423T063958
CREATED:20200930T082114Z
LAST-MODIFIED:20200930T082114Z
UID:3307-1613088000-1613174399@www.theavenueprimaryschool.co.uk
SUMMARY:Trust PD Day - School Closed for Children
DESCRIPTION:
URL:https://www.theavenueprimaryschool.co.uk/event/trust-pd-day-school-closed-for-children/
END:VEVENT
BEGIN:VEVENT
DTSTART;VALUE=DATE:20201221
DTEND;VALUE=DATE:20210102
DTSTAMP:20260423T063958
CREATED:20200713T140020Z
LAST-MODIFIED:20200713T140020Z
UID:2973-1608508800-1609545599@www.theavenueprimaryschool.co.uk
SUMMARY:Christmas Holiday
DESCRIPTION:
URL:https://www.theavenueprimaryschool.co.uk/event/christmas-holiday/
END:VEVENT
BEGIN:VEVENT
DTSTART;VALUE=DATE:20201218
DTEND;VALUE=DATE:20201219
DTSTAMP:20260423T063958
CREATED:20201014T151241Z
LAST-MODIFIED:20201014T151241Z
UID:3362-1608249600-1608335999@www.theavenueprimaryschool.co.uk
SUMMARY:Christmas Jumper Day and Movie Afternoon
DESCRIPTION:
URL:https://www.theavenueprimaryschool.co.uk/event/christmas-jumper-day-and-movie-afternoon/
END:VEVENT
BEGIN:VEVENT
DTSTART;VALUE=DATE:20201113
DTEND;VALUE=DATE:20201114
DTSTAMP:20260423T063958
CREATED:20201109T125948Z
LAST-MODIFIED:20201109T125948Z
UID:3411-1605225600-1605311999@www.theavenueprimaryschool.co.uk
SUMMARY:Children in Need
DESCRIPTION:Children in Need – Children can come in their own clothes
URL:https://www.theavenueprimaryschool.co.uk/event/children-in-need/
END:VEVENT
BEGIN:VEVENT
DTSTART;VALUE=DATE:20201102
DTEND;VALUE=DATE:20201103
DTSTAMP:20260423T063958
CREATED:20200713T134905Z
LAST-MODIFIED:20200713T134905Z
UID:2961-1604275200-1604361599@www.theavenueprimaryschool.co.uk
SUMMARY:PD Day - School Closed for Children
DESCRIPTION:
URL:https://www.theavenueprimaryschool.co.uk/event/pd-day-school-closed-for-children-3/
END:VEVENT
BEGIN:VEVENT
DTSTART;TZID=UTC:20201026T090000
DTEND;TZID=UTC:20201030T150000
DTSTAMP:20260423T063958
CREATED:20200713T135615Z
LAST-MODIFIED:20200713T135615Z
UID:2969-1603702800-1604070000@www.theavenueprimaryschool.co.uk
SUMMARY:October Half Term
DESCRIPTION:
URL:https://www.theavenueprimaryschool.co.uk/event/october-half-term-2/
END:VEVENT
BEGIN:VEVENT
DTSTART;VALUE=DATE:20200901
DTEND;VALUE=DATE:20200902
DTSTAMP:20260423T063958
CREATED:20200713T134831Z
LAST-MODIFIED:20200713T134831Z
UID:2959-1598918400-1599004799@www.theavenueprimaryschool.co.uk
SUMMARY:PD Day - School Closed for Children
DESCRIPTION:
URL:https://www.theavenueprimaryschool.co.uk/event/pd-day-school-closed-for-children-2/
END:VEVENT
BEGIN:VEVENT
DTSTART;VALUE=DATE:20200720
DTEND;VALUE=DATE:20200721
DTSTAMP:20260423T063958
CREATED:20191114T120008Z
LAST-MODIFIED:20191114T132243Z
UID:1730-1595203200-1595289599@www.theavenueprimaryschool.co.uk
SUMMARY:PD Day- School Closed for Children
DESCRIPTION:
URL:https://www.theavenueprimaryschool.co.uk/event/pd-day-9/
END:VEVENT
BEGIN:VEVENT
DTSTART;VALUE=DATE:20200717
DTEND;VALUE=DATE:20200718
DTSTAMP:20260423T063958
CREATED:20200106T104707Z
LAST-MODIFIED:20200106T104707Z
UID:1862-1594944000-1595030399@www.theavenueprimaryschool.co.uk
SUMMARY:Break up for Summer
DESCRIPTION:
URL:https://www.theavenueprimaryschool.co.uk/event/break-up-for-summer-2/
END:VEVENT
BEGIN:VEVENT
DTSTART;TZID=UTC:20200611T143000
DTEND;TZID=UTC:20200611T153000
DTSTAMP:20260423T063958
CREATED:20190905T145040Z
LAST-MODIFIED:20190905T145040Z
UID:1561-1591885800-1591889400@www.theavenueprimaryschool.co.uk
SUMMARY:Nursery PM Stay and Play
DESCRIPTION:
URL:https://www.theavenueprimaryschool.co.uk/event/nursery-pm-stay-and-play-5/
END:VEVENT
BEGIN:VEVENT
DTSTART;TZID=UTC:20200611T103000
DTEND;TZID=UTC:20200611T113000
DTSTAMP:20260423T063958
CREATED:20190905T144942Z
LAST-MODIFIED:20190905T144942Z
UID:1559-1591871400-1591875000@www.theavenueprimaryschool.co.uk
SUMMARY:Nursery AM Stay and Play
DESCRIPTION:
URL:https://www.theavenueprimaryschool.co.uk/event/nursery-am-stay-and-play-5/
END:VEVENT
BEGIN:VEVENT
DTSTART;VALUE=DATE:20200610
DTEND;VALUE=DATE:20200611
DTSTAMP:20260423T063958
CREATED:20200108T113017Z
LAST-MODIFIED:20200108T113017Z
UID:1892-1591747200-1591833599@www.theavenueprimaryschool.co.uk
SUMMARY:Carlton Residential Trip
DESCRIPTION:
URL:https://www.theavenueprimaryschool.co.uk/event/carlton-residential-trip-3/
END:VEVENT
BEGIN:VEVENT
DTSTART;VALUE=DATE:20200609
DTEND;VALUE=DATE:20200610
DTSTAMP:20260423T063958
CREATED:20200108T112959Z
LAST-MODIFIED:20200108T112959Z
UID:1890-1591660800-1591747199@www.theavenueprimaryschool.co.uk
SUMMARY:Carlton Residential Trip
DESCRIPTION:
URL:https://www.theavenueprimaryschool.co.uk/event/carlton-residential-trip-2/
END:VEVENT
BEGIN:VEVENT
DTSTART;VALUE=DATE:20200608
DTEND;VALUE=DATE:20200609
DTSTAMP:20260423T063958
CREATED:20200108T112936Z
LAST-MODIFIED:20200108T112936Z
UID:1888-1591574400-1591660799@www.theavenueprimaryschool.co.uk
SUMMARY:Carlton Residential Trip
DESCRIPTION:
URL:https://www.theavenueprimaryschool.co.uk/event/carlton-residential-trip/
END:VEVENT
BEGIN:VEVENT
DTSTART;VALUE=DATE:20200601
DTEND;VALUE=DATE:20200602
DTSTAMP:20260423T063958
CREATED:20191114T115934Z
LAST-MODIFIED:20191114T132014Z
UID:1728-1590969600-1591055999@www.theavenueprimaryschool.co.uk
SUMMARY:PD Day- School Closed for Children
DESCRIPTION:
URL:https://www.theavenueprimaryschool.co.uk/event/pd-day-7/
END:VEVENT
BEGIN:VEVENT
DTSTART;VALUE=DATE:20200529
DTEND;VALUE=DATE:20200530
DTSTAMP:20260423T063958
CREATED:20200106T104432Z
LAST-MODIFIED:20200106T104432Z
UID:1860-1590710400-1590796799@www.theavenueprimaryschool.co.uk
SUMMARY:May Half Term
DESCRIPTION:
URL:https://www.theavenueprimaryschool.co.uk/event/may-half-term-5/
END:VEVENT
BEGIN:VEVENT
DTSTART;VALUE=DATE:20200528
DTEND;VALUE=DATE:20200529
DTSTAMP:20260423T063958
CREATED:20200106T104416Z
LAST-MODIFIED:20200106T104416Z
UID:1858-1590624000-1590710399@www.theavenueprimaryschool.co.uk
SUMMARY:May Half Term
DESCRIPTION:
URL:https://www.theavenueprimaryschool.co.uk/event/may-half-term-4/
END:VEVENT
BEGIN:VEVENT
DTSTART;VALUE=DATE:20200527
DTEND;VALUE=DATE:20200528
DTSTAMP:20260423T063958
CREATED:20200106T104356Z
LAST-MODIFIED:20200106T104356Z
UID:1856-1590537600-1590623999@www.theavenueprimaryschool.co.uk
SUMMARY:May Half Term
DESCRIPTION:
URL:https://www.theavenueprimaryschool.co.uk/event/may-half-term-3/
END:VEVENT
BEGIN:VEVENT
DTSTART;VALUE=DATE:20200526
DTEND;VALUE=DATE:20200527
DTSTAMP:20260423T063958
CREATED:20200106T104338Z
LAST-MODIFIED:20200106T104338Z
UID:1854-1590451200-1590537599@www.theavenueprimaryschool.co.uk
SUMMARY:May Half Term
DESCRIPTION:
URL:https://www.theavenueprimaryschool.co.uk/event/may-half-term-2/
END:VEVENT
BEGIN:VEVENT
DTSTART;VALUE=DATE:20200525
DTEND;VALUE=DATE:20200526
DTSTAMP:20260423T063958
CREATED:20200106T104322Z
LAST-MODIFIED:20200106T104322Z
UID:1852-1590364800-1590451199@www.theavenueprimaryschool.co.uk
SUMMARY:May Half Term
DESCRIPTION:
URL:https://www.theavenueprimaryschool.co.uk/event/may-half-term/
END:VEVENT
BEGIN:VEVENT
DTSTART;TZID=UTC:20200519T133000
DTEND;TZID=UTC:20200519T150000
DTSTAMP:20260423T063958
CREATED:20190627T132618Z
LAST-MODIFIED:20190627T132618Z
UID:1410-1589895000-1589900400@www.theavenueprimaryschool.co.uk
SUMMARY:Reception Stay and Play
DESCRIPTION:
URL:https://www.theavenueprimaryschool.co.uk/event/reception-stay-and-play-4/
END:VEVENT
BEGIN:VEVENT
DTSTART;VALUE=DATE:20200511
DTEND;VALUE=DATE:20200512
DTSTAMP:20260423T063958
CREATED:20200106T162956Z
LAST-MODIFIED:20200106T162956Z
UID:1864-1589155200-1589241599@www.theavenueprimaryschool.co.uk
SUMMARY:SATS week
DESCRIPTION:
URL:https://www.theavenueprimaryschool.co.uk/event/sats-week/
END:VEVENT
BEGIN:VEVENT
DTSTART;VALUE=DATE:20200508
DTEND;VALUE=DATE:20200509
DTSTAMP:20260423T063958
CREATED:20190704T133858Z
LAST-MODIFIED:20190704T133858Z
UID:1422-1588896000-1588982399@www.theavenueprimaryschool.co.uk
SUMMARY:Bank Holiday
DESCRIPTION:
URL:https://www.theavenueprimaryschool.co.uk/event/bank-holiday-3/
END:VEVENT
BEGIN:VEVENT
DTSTART;VALUE=DATE:20200507
DTEND;VALUE=DATE:20200508
DTSTAMP:20260423T063958
CREATED:20191114T115424Z
LAST-MODIFIED:20191114T131900Z
UID:1722-1588809600-1588895999@www.theavenueprimaryschool.co.uk
SUMMARY:PD Day- School Closed for Children
DESCRIPTION:
URL:https://www.theavenueprimaryschool.co.uk/event/pd-day-6/
END:VEVENT
BEGIN:VEVENT
DTSTART;VALUE=DATE:20200417
DTEND;VALUE=DATE:20200418
DTSTAMP:20260423T063958
CREATED:20200106T103905Z
LAST-MODIFIED:20200106T103905Z
UID:1850-1587081600-1587167999@www.theavenueprimaryschool.co.uk
SUMMARY:Easter Holidays
DESCRIPTION:
URL:https://www.theavenueprimaryschool.co.uk/event/easter-holidays-16/
END:VEVENT
BEGIN:VEVENT
DTSTART;VALUE=DATE:20200416
DTEND;VALUE=DATE:20200417
DTSTAMP:20260423T063958
CREATED:20200106T103851Z
LAST-MODIFIED:20200106T103851Z
UID:1848-1586995200-1587081599@www.theavenueprimaryschool.co.uk
SUMMARY:Easter Holidays
DESCRIPTION:
URL:https://www.theavenueprimaryschool.co.uk/event/easter-holidays-15/
END:VEVENT
BEGIN:VEVENT
DTSTART;VALUE=DATE:20200415
DTEND;VALUE=DATE:20200416
DTSTAMP:20260423T063958
CREATED:20200106T103836Z
LAST-MODIFIED:20200106T103836Z
UID:1846-1586908800-1586995199@www.theavenueprimaryschool.co.uk
SUMMARY:Easter Holidays
DESCRIPTION:
URL:https://www.theavenueprimaryschool.co.uk/event/easter-holidays-14/
END:VEVENT
BEGIN:VEVENT
DTSTART;VALUE=DATE:20200414
DTEND;VALUE=DATE:20200415
DTSTAMP:20260423T063958
CREATED:20200106T103732Z
LAST-MODIFIED:20200106T103732Z
UID:1844-1586822400-1586908799@www.theavenueprimaryschool.co.uk
SUMMARY:Easter Holidays
DESCRIPTION:
URL:https://www.theavenueprimaryschool.co.uk/event/easter-holidays-13/
END:VEVENT
BEGIN:VEVENT
DTSTART;VALUE=DATE:20200413
DTEND;VALUE=DATE:20200414
DTSTAMP:20260423T063958
CREATED:20200106T103513Z
LAST-MODIFIED:20200106T103513Z
UID:1834-1586736000-1586822399@www.theavenueprimaryschool.co.uk
SUMMARY:Easter Holidays
DESCRIPTION:
URL:https://www.theavenueprimaryschool.co.uk/event/easter-holidays-8/
END:VEVENT
BEGIN:VEVENT
DTSTART;VALUE=DATE:20200410
DTEND;VALUE=DATE:20200411
DTSTAMP:20260423T063958
CREATED:20200106T103426Z
LAST-MODIFIED:20200106T103426Z
UID:1832-1586476800-1586563199@www.theavenueprimaryschool.co.uk
SUMMARY:Easter Holidays
DESCRIPTION:
URL:https://www.theavenueprimaryschool.co.uk/event/easter-holidays-7/
END:VEVENT
END:VCALENDAR