   BEGIN:VCALENDAR
VERSION:2.0
PRODID:-//The Avenue - ECPv6.15.20//NONSGML v1.0//EN
CALSCALE:GREGORIAN
METHOD:PUBLISH
X-WR-CALNAME:The Avenue
X-ORIGINAL-URL:https://www.theavenueprimaryschool.co.uk
X-WR-CALDESC:Events for The Avenue
REFRESH-INTERVAL;VALUE=DURATION:PT1H
X-Robots-Tag:noindex
X-PUBLISHED-TTL:PT1H
BEGIN:VTIMEZONE
TZID:UTC
BEGIN:STANDARD
TZOFFSETFROM:+0000
TZOFFSETTO:+0000
TZNAME:UTC
DTSTART:20190101T000000
END:STANDARD
END:VTIMEZONE
BEGIN:VEVENT
DTSTART;VALUE=DATE:20211213
DTEND;VALUE=DATE:20211214
DTSTAMP:20260423T025030
CREATED:20211105T170035Z
LAST-MODIFIED:20211105T170035Z
UID:4196-1639353600-1639439999@www.theavenueprimaryschool.co.uk
SUMMARY:Nursery - Christmas Enrichment 'Stay and Play'
DESCRIPTION:Morning session – 10am start \nAfternoon session – 1.30pm start
URL:https://www.theavenueprimaryschool.co.uk/event/nursery-christmas-enrichment-stay-and-play/
END:VEVENT
BEGIN:VEVENT
DTSTART;TZID=UTC:20211210T100000
DTEND;TZID=UTC:20211210T110000
DTSTAMP:20260423T025030
CREATED:20211105T170431Z
LAST-MODIFIED:20211105T170534Z
UID:4202-1639130400-1639134000@www.theavenueprimaryschool.co.uk
SUMMARY:Reception Christmas Performance
DESCRIPTION:Christmas Nativity (school main hall) \n(Dates are provisional and dependent on government guidelines) \nTicket information will be sent home in a few weeks time. Unfortunately\, it is likely that ticket numbers will be restricted to 2 per family.
URL:https://www.theavenueprimaryschool.co.uk/event/reception-christmas-performance-3/
LOCATION:School Hall
END:VEVENT
BEGIN:VEVENT
DTSTART;TZID=UTC:20211209T140000
DTEND;TZID=UTC:20211209T150000
DTSTAMP:20260423T025030
CREATED:20211105T170349Z
LAST-MODIFIED:20211105T170636Z
UID:4200-1639058400-1639062000@www.theavenueprimaryschool.co.uk
SUMMARY:Reception Christmas Performance
DESCRIPTION:Christmas Nativity (school main hall) \n(Dates are provisional and dependent on government guidelines) \nTicket information will be sent home in a few weeks time. Unfortunately\, it is likely that ticket numbers will be restricted to 2 per family.
URL:https://www.theavenueprimaryschool.co.uk/event/reception-christmas-performance-2/
LOCATION:School Hall
END:VEVENT
BEGIN:VEVENT
DTSTART;TZID=UTC:20211209T100000
DTEND;TZID=UTC:20211209T110000
DTSTAMP:20260423T025030
CREATED:20211105T171139Z
LAST-MODIFIED:20211105T171139Z
UID:4212-1639044000-1639047600@www.theavenueprimaryschool.co.uk
SUMMARY:Year 2 Christmas Performance
DESCRIPTION:Christmas assembly (school main hall) \n(Dates are provisional and dependent on government guidelines) \nTicket information will be sent home in a few weeks time. Unfortunately\, it is likely that ticket numbers will be restricted to 2 per family.
URL:https://www.theavenueprimaryschool.co.uk/event/year-2-christmas-performance-2/
LOCATION:School Hall
END:VEVENT
BEGIN:VEVENT
DTSTART;TZID=UTC:20211208T100000
DTEND;TZID=UTC:20211208T110000
DTSTAMP:20260423T025030
CREATED:20211105T170817Z
LAST-MODIFIED:20211105T170817Z
UID:4208-1638957600-1638961200@www.theavenueprimaryschool.co.uk
SUMMARY:Year 1 Christmas Performance
DESCRIPTION:Christmas assembly (school main hall) \n(Dates are provisional and dependent on government guidelines) \nTicket information will be sent home in a few weeks time. Unfortunately\, it is likely that ticket numbers will be restricted to 2 per family.
URL:https://www.theavenueprimaryschool.co.uk/event/year-1-christmas-performance-2/
END:VEVENT
BEGIN:VEVENT
DTSTART;TZID=UTC:20211207T140000
DTEND;TZID=UTC:20211207T150000
DTSTAMP:20260423T025030
CREATED:20211105T170758Z
LAST-MODIFIED:20211105T170758Z
UID:4207-1638885600-1638889200@www.theavenueprimaryschool.co.uk
SUMMARY:Year 1 Christmas Performance
DESCRIPTION:Christmas assembly (school main hall) \n(Dates are provisional and dependent on government guidelines) \nTicket information will be sent home in a few weeks time. Unfortunately\, it is likely that ticket numbers will be restricted to 2 per family.
URL:https://www.theavenueprimaryschool.co.uk/event/year-1-christmas-performance/
LOCATION:School Hall
END:VEVENT
BEGIN:VEVENT
DTSTART;TZID=UTC:20211207T100000
DTEND;TZID=UTC:20211207T110000
DTSTAMP:20260423T025030
CREATED:20211105T170316Z
LAST-MODIFIED:20211105T170522Z
UID:4198-1638871200-1638874800@www.theavenueprimaryschool.co.uk
SUMMARY:Reception Christmas Performance
DESCRIPTION:Christmas Nativity (school main hall) \n(Dates are provisional and dependent on government guidelines) \nTicket information will be sent home in a few weeks time. Unfortunately\, it is likely that ticket numbers will be restricted to 2 per family.
URL:https://www.theavenueprimaryschool.co.uk/event/reception-christmas-performance/
LOCATION:School Hall
END:VEVENT
BEGIN:VEVENT
DTSTART;TZID=UTC:20211206T140000
DTEND;TZID=UTC:20211206T150000
DTSTAMP:20260423T025030
CREATED:20211105T171105Z
LAST-MODIFIED:20211105T171105Z
UID:4211-1638799200-1638802800@www.theavenueprimaryschool.co.uk
SUMMARY:Year 2 Christmas Performance
DESCRIPTION:Christmas assembly (school main hall) \n(Dates are provisional and dependent on government guidelines) \nTicket information will be sent home in a few weeks time. Unfortunately\, it is likely that ticket numbers will be restricted to 2 per family.
URL:https://www.theavenueprimaryschool.co.uk/event/year-2-christmas-performance/
LOCATION:School Hall
END:VEVENT
BEGIN:VEVENT
DTSTART;VALUE=DATE:20211119
DTEND;VALUE=DATE:20211120
DTSTAMP:20260423T025030
CREATED:20211105T165628Z
LAST-MODIFIED:20211105T165628Z
UID:4191-1637280000-1637366399@www.theavenueprimaryschool.co.uk
SUMMARY:Children in Need
DESCRIPTION:Non-Uniform/Children in Need dress up. More information to follow about how to make a donation.
URL:https://www.theavenueprimaryschool.co.uk/event/children-in-need-2/
END:VEVENT
BEGIN:VEVENT
DTSTART;VALUE=DATE:20211115
DTEND;VALUE=DATE:20211116
DTSTAMP:20260423T025030
CREATED:20211105T165836Z
LAST-MODIFIED:20211105T165836Z
UID:4194-1636934400-1637020799@www.theavenueprimaryschool.co.uk
SUMMARY:Parents Evening Phone Calls - This Week
DESCRIPTION:Week beginning Monday 8th November and Monday 15th November –appointment letters have been sent home.
URL:https://www.theavenueprimaryschool.co.uk/event/parents-evening-phone-calls-this-week-2/
END:VEVENT
BEGIN:VEVENT
DTSTART;VALUE=DATE:20211108
DTEND;VALUE=DATE:20211109
DTSTAMP:20260423T025030
CREATED:20211105T165810Z
LAST-MODIFIED:20211105T165848Z
UID:4190-1636329600-1636415999@www.theavenueprimaryschool.co.uk
SUMMARY:Parents Evening Phone Calls - This Week
DESCRIPTION:Week beginning Monday 8th November and Monday 15th November –appointment letters have been sent home.
URL:https://www.theavenueprimaryschool.co.uk/event/parents-evening-phone-calls-this-week/
END:VEVENT
BEGIN:VEVENT
DTSTART;VALUE=DATE:20210924
DTEND;VALUE=DATE:20210925
DTSTAMP:20260423T025030
CREATED:20210909T092757Z
LAST-MODIFIED:20210909T092757Z
UID:4016-1632441600-1632527999@www.theavenueprimaryschool.co.uk
SUMMARY:School Photographs
DESCRIPTION:
URL:https://www.theavenueprimaryschool.co.uk/event/school-photographs/
END:VEVENT
BEGIN:VEVENT
DTSTART;VALUE=DATE:20210906
DTEND;VALUE=DATE:20210907
DTSTAMP:20260423T025030
CREATED:20210831T143433Z
LAST-MODIFIED:20210831T143433Z
UID:4012-1630886400-1630972799@www.theavenueprimaryschool.co.uk
SUMMARY:Children back to school
DESCRIPTION:
URL:https://www.theavenueprimaryschool.co.uk/event/children-back-to-school/
END:VEVENT
BEGIN:VEVENT
DTSTART;VALUE=DATE:20210903
DTEND;VALUE=DATE:20210904
DTSTAMP:20260423T025030
CREATED:20210831T143349Z
LAST-MODIFIED:20210831T143349Z
UID:4010-1630627200-1630713599@www.theavenueprimaryschool.co.uk
SUMMARY:PD day
DESCRIPTION:
URL:https://www.theavenueprimaryschool.co.uk/event/pd-day-2/
END:VEVENT
BEGIN:VEVENT
DTSTART;VALUE=DATE:20210721
DTEND;VALUE=DATE:20210901
DTSTAMP:20260423T025030
CREATED:20200713T140812Z
LAST-MODIFIED:20200713T140812Z
UID:2989-1626825600-1630454399@www.theavenueprimaryschool.co.uk
SUMMARY:Summer Holiday
DESCRIPTION:
URL:https://www.theavenueprimaryschool.co.uk/event/summer-holiday/
END:VEVENT
BEGIN:VEVENT
DTSTART;VALUE=DATE:20210720
DTEND;VALUE=DATE:20210721
DTSTAMP:20260423T025030
CREATED:20200713T135058Z
LAST-MODIFIED:20200713T135058Z
UID:2965-1626739200-1626825599@www.theavenueprimaryschool.co.uk
SUMMARY:PD Day - School Closed for Children
DESCRIPTION:
URL:https://www.theavenueprimaryschool.co.uk/event/pd-day-school-closed-for-children-5/
END:VEVENT
BEGIN:VEVENT
DTSTART;TZID=UTC:20210719T080000
DTEND;TZID=UTC:20210719T170000
DTSTAMP:20260423T025030
CREATED:20200713T135014Z
LAST-MODIFIED:20200713T135014Z
UID:2963-1626681600-1626714000@www.theavenueprimaryschool.co.uk
SUMMARY:PD Day - School Closed for Children
DESCRIPTION:
URL:https://www.theavenueprimaryschool.co.uk/event/pd-day-school-closed-for-children-4/
END:VEVENT
BEGIN:VEVENT
DTSTART;VALUE=DATE:20210531
DTEND;VALUE=DATE:20210605
DTSTAMP:20260423T025030
CREATED:20200713T140620Z
LAST-MODIFIED:20200713T140620Z
UID:2985-1622419200-1622851199@www.theavenueprimaryschool.co.uk
SUMMARY:May Half Term
DESCRIPTION:
URL:https://www.theavenueprimaryschool.co.uk/event/may-half-term-6/
END:VEVENT
BEGIN:VEVENT
DTSTART;VALUE=DATE:20210329
DTEND;VALUE=DATE:20210410
DTSTAMP:20260423T025030
CREATED:20200713T140433Z
LAST-MODIFIED:20200713T140433Z
UID:2981-1616976000-1618012799@www.theavenueprimaryschool.co.uk
SUMMARY:Easter Holiday
DESCRIPTION:
URL:https://www.theavenueprimaryschool.co.uk/event/easter-holiday/
END:VEVENT
BEGIN:VEVENT
DTSTART;VALUE=DATE:20210215
DTEND;VALUE=DATE:20210220
DTSTAMP:20260423T025030
CREATED:20200713T140303Z
LAST-MODIFIED:20200713T140303Z
UID:2977-1613347200-1613779199@www.theavenueprimaryschool.co.uk
SUMMARY:February Half Term
DESCRIPTION:
URL:https://www.theavenueprimaryschool.co.uk/event/february-half-term-6/
END:VEVENT
BEGIN:VEVENT
DTSTART;VALUE=DATE:20210212
DTEND;VALUE=DATE:20210213
DTSTAMP:20260423T025030
CREATED:20200930T082114Z
LAST-MODIFIED:20200930T082114Z
UID:3307-1613088000-1613174399@www.theavenueprimaryschool.co.uk
SUMMARY:Trust PD Day - School Closed for Children
DESCRIPTION:
URL:https://www.theavenueprimaryschool.co.uk/event/trust-pd-day-school-closed-for-children/
END:VEVENT
BEGIN:VEVENT
DTSTART;VALUE=DATE:20201221
DTEND;VALUE=DATE:20210102
DTSTAMP:20260423T025030
CREATED:20200713T140020Z
LAST-MODIFIED:20200713T140020Z
UID:2973-1608508800-1609545599@www.theavenueprimaryschool.co.uk
SUMMARY:Christmas Holiday
DESCRIPTION:
URL:https://www.theavenueprimaryschool.co.uk/event/christmas-holiday/
END:VEVENT
BEGIN:VEVENT
DTSTART;VALUE=DATE:20201218
DTEND;VALUE=DATE:20201219
DTSTAMP:20260423T025030
CREATED:20201014T151241Z
LAST-MODIFIED:20201014T151241Z
UID:3362-1608249600-1608335999@www.theavenueprimaryschool.co.uk
SUMMARY:Christmas Jumper Day and Movie Afternoon
DESCRIPTION:
URL:https://www.theavenueprimaryschool.co.uk/event/christmas-jumper-day-and-movie-afternoon/
END:VEVENT
BEGIN:VEVENT
DTSTART;VALUE=DATE:20201113
DTEND;VALUE=DATE:20201114
DTSTAMP:20260423T025030
CREATED:20201109T125948Z
LAST-MODIFIED:20201109T125948Z
UID:3411-1605225600-1605311999@www.theavenueprimaryschool.co.uk
SUMMARY:Children in Need
DESCRIPTION:Children in Need – Children can come in their own clothes
URL:https://www.theavenueprimaryschool.co.uk/event/children-in-need/
END:VEVENT
BEGIN:VEVENT
DTSTART;VALUE=DATE:20201102
DTEND;VALUE=DATE:20201103
DTSTAMP:20260423T025030
CREATED:20200713T134905Z
LAST-MODIFIED:20200713T134905Z
UID:2961-1604275200-1604361599@www.theavenueprimaryschool.co.uk
SUMMARY:PD Day - School Closed for Children
DESCRIPTION:
URL:https://www.theavenueprimaryschool.co.uk/event/pd-day-school-closed-for-children-3/
END:VEVENT
BEGIN:VEVENT
DTSTART;TZID=UTC:20201026T090000
DTEND;TZID=UTC:20201030T150000
DTSTAMP:20260423T025030
CREATED:20200713T135615Z
LAST-MODIFIED:20200713T135615Z
UID:2969-1603702800-1604070000@www.theavenueprimaryschool.co.uk
SUMMARY:October Half Term
DESCRIPTION:
URL:https://www.theavenueprimaryschool.co.uk/event/october-half-term-2/
END:VEVENT
BEGIN:VEVENT
DTSTART;VALUE=DATE:20200901
DTEND;VALUE=DATE:20200902
DTSTAMP:20260423T025030
CREATED:20200713T134831Z
LAST-MODIFIED:20200713T134831Z
UID:2959-1598918400-1599004799@www.theavenueprimaryschool.co.uk
SUMMARY:PD Day - School Closed for Children
DESCRIPTION:
URL:https://www.theavenueprimaryschool.co.uk/event/pd-day-school-closed-for-children-2/
END:VEVENT
BEGIN:VEVENT
DTSTART;VALUE=DATE:20200720
DTEND;VALUE=DATE:20200721
DTSTAMP:20260423T025030
CREATED:20191114T120008Z
LAST-MODIFIED:20191114T132243Z
UID:1730-1595203200-1595289599@www.theavenueprimaryschool.co.uk
SUMMARY:PD Day- School Closed for Children
DESCRIPTION:
URL:https://www.theavenueprimaryschool.co.uk/event/pd-day-9/
END:VEVENT
BEGIN:VEVENT
DTSTART;VALUE=DATE:20200717
DTEND;VALUE=DATE:20200718
DTSTAMP:20260423T025030
CREATED:20200106T104707Z
LAST-MODIFIED:20200106T104707Z
UID:1862-1594944000-1595030399@www.theavenueprimaryschool.co.uk
SUMMARY:Break up for Summer
DESCRIPTION:
URL:https://www.theavenueprimaryschool.co.uk/event/break-up-for-summer-2/
END:VEVENT
BEGIN:VEVENT
DTSTART;TZID=UTC:20200611T143000
DTEND;TZID=UTC:20200611T153000
DTSTAMP:20260423T025030
CREATED:20190905T145040Z
LAST-MODIFIED:20190905T145040Z
UID:1561-1591885800-1591889400@www.theavenueprimaryschool.co.uk
SUMMARY:Nursery PM Stay and Play
DESCRIPTION:
URL:https://www.theavenueprimaryschool.co.uk/event/nursery-pm-stay-and-play-5/
END:VEVENT
END:VCALENDAR