   BEGIN:VCALENDAR
VERSION:2.0
PRODID:-//The Avenue - ECPv6.15.20//NONSGML v1.0//EN
CALSCALE:GREGORIAN
METHOD:PUBLISH
X-WR-CALNAME:The Avenue
X-ORIGINAL-URL:https://www.theavenueprimaryschool.co.uk
X-WR-CALDESC:Events for The Avenue
REFRESH-INTERVAL;VALUE=DURATION:PT1H
X-Robots-Tag:noindex
X-PUBLISHED-TTL:PT1H
BEGIN:VTIMEZONE
TZID:UTC
BEGIN:STANDARD
TZOFFSETFROM:+0000
TZOFFSETTO:+0000
TZNAME:UTC
DTSTART:20210101T000000
END:STANDARD
END:VTIMEZONE
BEGIN:VEVENT
DTSTART;VALUE=DATE:20220923
DTEND;VALUE=DATE:20220924
DTSTAMP:20260422T172525
CREATED:20220913T140338Z
LAST-MODIFIED:20220920T163227Z
UID:4944-1663891200-1663977599@www.theavenueprimaryschool.co.uk
SUMMARY:School Photographs
DESCRIPTION:
URL:https://www.theavenueprimaryschool.co.uk/event/school-photographs-2/
END:VEVENT
BEGIN:VEVENT
DTSTART;TZID=UTC:20220922T153000
DTEND;TZID=UTC:20220922T170000
DTSTAMP:20260422T172525
CREATED:20220913T140317Z
LAST-MODIFIED:20220913T140317Z
UID:4942-1663860600-1663866000@www.theavenueprimaryschool.co.uk
SUMMARY:Y3 & Y4 Multiplication Check Meeting
DESCRIPTION:
URL:https://www.theavenueprimaryschool.co.uk/event/y3-y4-multiplication-check-meeting/
END:VEVENT
BEGIN:VEVENT
DTSTART;TZID=UTC:20220921T152000
DTEND;TZID=UTC:20220921T170000
DTSTAMP:20260422T172525
CREATED:20220913T140701Z
LAST-MODIFIED:20220913T140701Z
UID:4956-1663773600-1663779600@www.theavenueprimaryschool.co.uk
SUMMARY:1CW Phonics Workshops
DESCRIPTION:
URL:https://www.theavenueprimaryschool.co.uk/event/1cw-phonics-workshops/
END:VEVENT
BEGIN:VEVENT
DTSTART;TZID=UTC:20220921T152000
DTEND;TZID=UTC:20220921T170000
DTSTAMP:20260422T172525
CREATED:20220913T140500Z
LAST-MODIFIED:20220913T140500Z
UID:4948-1663773600-1663779600@www.theavenueprimaryschool.co.uk
SUMMARY:1EJ Phonics Workshops
DESCRIPTION:
URL:https://www.theavenueprimaryschool.co.uk/event/1ej-phonics-workshops/
END:VEVENT
BEGIN:VEVENT
DTSTART;TZID=UTC:20220722T080000
DTEND;TZID=UTC:20220722T170000
DTSTAMP:20260422T172525
CREATED:20220504T153055Z
LAST-MODIFIED:20220504T153055Z
UID:4691-1658476800-1658509200@www.theavenueprimaryschool.co.uk
SUMMARY:PD Day
DESCRIPTION:
URL:https://www.theavenueprimaryschool.co.uk/event/pd-day-11/
END:VEVENT
BEGIN:VEVENT
DTSTART;VALUE=DATE:20220722
DTEND;VALUE=DATE:20220723
DTSTAMP:20260422T172525
CREATED:20220218T091945Z
LAST-MODIFIED:20220218T091945Z
UID:4476-1658448000-1658534399@www.theavenueprimaryschool.co.uk
SUMMARY:PD Day
DESCRIPTION:
URL:https://www.theavenueprimaryschool.co.uk/event/pd-day-10/
END:VEVENT
BEGIN:VEVENT
DTSTART;VALUE=DATE:20220721
DTEND;VALUE=DATE:20220722
DTSTAMP:20260422T172525
CREATED:20220504T153013Z
LAST-MODIFIED:20220504T153030Z
UID:4689-1658361600-1658447999@www.theavenueprimaryschool.co.uk
SUMMARY:Children break up for summer holidays
DESCRIPTION:
URL:https://www.theavenueprimaryschool.co.uk/event/children-break-up-for-summer-holidays/
END:VEVENT
BEGIN:VEVENT
DTSTART;TZID=UTC:20220720T153000
DTEND;TZID=UTC:20220720T163000
DTSTAMP:20260422T172525
CREATED:20220504T152924Z
LAST-MODIFIED:20220504T152924Z
UID:4687-1658331000-1658334600@www.theavenueprimaryschool.co.uk
SUMMARY:Y6 leavers assembly in the main hall for parents/carers\, 3.30pm
DESCRIPTION:
URL:https://www.theavenueprimaryschool.co.uk/event/y6-leavers-assembly-in-the-main-hall-for-parents-carers-3-30pm/
END:VEVENT
BEGIN:VEVENT
DTSTART;VALUE=DATE:20220719
DTEND;VALUE=DATE:20220720
DTSTAMP:20260422T172525
CREATED:20220504T152840Z
LAST-MODIFIED:20220504T152840Z
UID:4685-1658188800-1658275199@www.theavenueprimaryschool.co.uk
SUMMARY:Rec-Y6 open afternoon for parents/carers
DESCRIPTION:
URL:https://www.theavenueprimaryschool.co.uk/event/rec-y6-open-afternoon-for-parents-carers/
END:VEVENT
BEGIN:VEVENT
DTSTART;VALUE=DATE:20220714
DTEND;VALUE=DATE:20220715
DTSTAMP:20260422T172525
CREATED:20220504T152730Z
LAST-MODIFIED:20220504T152730Z
UID:4683-1657756800-1657843199@www.theavenueprimaryschool.co.uk
SUMMARY:Rec\, Y1 and Y2 sports day (am) - KS2 sports day (pm)
DESCRIPTION:Parents/carers invited to watch. More information to follow.
URL:https://www.theavenueprimaryschool.co.uk/event/rec-y1-and-y2-sports-day-am-ks2-sports-day-pm/
END:VEVENT
BEGIN:VEVENT
DTSTART;VALUE=DATE:20220712
DTEND;VALUE=DATE:20220713
DTSTAMP:20260422T172525
CREATED:20220504T152703Z
LAST-MODIFIED:20220504T152703Z
UID:4681-1657584000-1657670399@www.theavenueprimaryschool.co.uk
SUMMARY:Nursery Sports Day/ Stay & Play afternoon (AM & PM)
DESCRIPTION:Parents/carers invited to watch. More information to follow.
URL:https://www.theavenueprimaryschool.co.uk/event/nursery-sports-day-stay-play-afternoon-am-pm/
END:VEVENT
BEGIN:VEVENT
DTSTART;VALUE=DATE:20220711
DTEND;VALUE=DATE:20220716
DTSTAMP:20260422T172525
CREATED:20220504T152613Z
LAST-MODIFIED:20220504T152633Z
UID:4679-1657497600-1657929599@www.theavenueprimaryschool.co.uk
SUMMARY:Sports week
DESCRIPTION:
URL:https://www.theavenueprimaryschool.co.uk/event/sports-week-2/
END:VEVENT
BEGIN:VEVENT
DTSTART;VALUE=DATE:20220701
DTEND;VALUE=DATE:20220702
DTSTAMP:20260422T172525
CREATED:20220504T152540Z
LAST-MODIFIED:20220504T152540Z
UID:4677-1656633600-1656719999@www.theavenueprimaryschool.co.uk
SUMMARY:Rec-Y6 fun run sponsored event
DESCRIPTION:Children to wear PE kit. Parents/carers invited to watch. More information to follow.
URL:https://www.theavenueprimaryschool.co.uk/event/rec-y6-fun-run-sponsored-event/
END:VEVENT
BEGIN:VEVENT
DTSTART;VALUE=DATE:20220630
DTEND;VALUE=DATE:20220701
DTSTAMP:20260422T172525
CREATED:20220504T152415Z
LAST-MODIFIED:20220504T152415Z
UID:4675-1656547200-1656633599@www.theavenueprimaryschool.co.uk
SUMMARY:Y6 Whitby trip
DESCRIPTION:
URL:https://www.theavenueprimaryschool.co.uk/event/y6-whitby-trip/
END:VEVENT
BEGIN:VEVENT
DTSTART;VALUE=DATE:20220629
DTEND;VALUE=DATE:20220630
DTSTAMP:20260422T172525
CREATED:20220504T152240Z
LAST-MODIFIED:20220504T152240Z
UID:4673-1656460800-1656547199@www.theavenueprimaryschool.co.uk
SUMMARY:Inflatable fun day
DESCRIPTION:
URL:https://www.theavenueprimaryschool.co.uk/event/inflatable-fun-day/
END:VEVENT
BEGIN:VEVENT
DTSTART;VALUE=DATE:20220623
DTEND;VALUE=DATE:20220624
DTSTAMP:20260422T172525
CREATED:20220504T152214Z
LAST-MODIFIED:20220504T152214Z
UID:4671-1655942400-1656028799@www.theavenueprimaryschool.co.uk
SUMMARY:EYFS sponsored wheels event
DESCRIPTION:Parents/carers invited to watch. More information to follow.
URL:https://www.theavenueprimaryschool.co.uk/event/eyfs-sponsored-wheels-event/
END:VEVENT
BEGIN:VEVENT
DTSTART;VALUE=DATE:20220622
DTEND;VALUE=DATE:20220623
DTSTAMP:20260422T172525
CREATED:20220504T152144Z
LAST-MODIFIED:20220504T152144Z
UID:4669-1655856000-1655942399@www.theavenueprimaryschool.co.uk
SUMMARY:World Music Day
DESCRIPTION:All children to come to school dressed as a musician/ popstar.
URL:https://www.theavenueprimaryschool.co.uk/event/world-music-day/
END:VEVENT
BEGIN:VEVENT
DTSTART;VALUE=DATE:20220607
DTEND;VALUE=DATE:20220608
DTSTAMP:20260422T172525
CREATED:20220504T152110Z
LAST-MODIFIED:20220504T152110Z
UID:4667-1654560000-1654646399@www.theavenueprimaryschool.co.uk
SUMMARY:Return to school. School photos for Reception and Y6.
DESCRIPTION:
URL:https://www.theavenueprimaryschool.co.uk/event/return-to-school-school-photos-for-reception-and-y6/
END:VEVENT
BEGIN:VEVENT
DTSTART;VALUE=DATE:20220527
DTEND;VALUE=DATE:20220528
DTSTAMP:20260422T172525
CREATED:20220504T152036Z
LAST-MODIFIED:20220504T152036Z
UID:4665-1653609600-1653695999@www.theavenueprimaryschool.co.uk
SUMMARY:PD day then half-term
DESCRIPTION:
URL:https://www.theavenueprimaryschool.co.uk/event/pd-day-then-half-term/
END:VEVENT
BEGIN:VEVENT
DTSTART;VALUE=DATE:20220527
DTEND;VALUE=DATE:20220528
DTSTAMP:20260422T172525
CREATED:20220131T132947Z
LAST-MODIFIED:20220131T132947Z
UID:4427-1653609600-1653695999@www.theavenueprimaryschool.co.uk
SUMMARY:PD Day
DESCRIPTION:
URL:https://www.theavenueprimaryschool.co.uk/event/pd-day-4/
END:VEVENT
BEGIN:VEVENT
DTSTART;VALUE=DATE:20220526
DTEND;VALUE=DATE:20220527
DTSTAMP:20260422T172525
CREATED:20220504T151939Z
LAST-MODIFIED:20220504T151939Z
UID:4661-1653523200-1653609599@www.theavenueprimaryschool.co.uk
SUMMARY:Y3\, 4\, 5 and 6 family Jubilee afternoon (some Y6 children at Carlton)
DESCRIPTION:Parents/carers invited to join the children for a picnic lunch. Children to wear party clothes all day. More information to follow. \n\n\n\nJubilee family picnic\n\n\nWednesday 25th May\n\n\n\nReception\n11.30am – 1.30pm\n\n\nYear 1\n12 – 2pm\n\n\nYear 2\n12 – 2pm\n\n\nThursday 26th May \n\n\n\nYear 3\n11.30am – 1.30pm\n\n\nYear 4\n11.30am – 1.30pm\n\n\nYear 5\n12 – 2pm\n\n\nYear 6\n12 – 2pm
URL:https://www.theavenueprimaryschool.co.uk/event/y3-4-5-and-6-family-jubilee-afternoon-some-y6-children-at-carlton/
END:VEVENT
BEGIN:VEVENT
DTSTART;VALUE=DATE:20220525
DTEND;VALUE=DATE:20220528
DTSTAMP:20260422T172525
CREATED:20220504T152012Z
LAST-MODIFIED:20220504T152012Z
UID:4663-1653436800-1653695999@www.theavenueprimaryschool.co.uk
SUMMARY:Y6 Carlton Residential
DESCRIPTION:
URL:https://www.theavenueprimaryschool.co.uk/event/y6-carlton-residential/
END:VEVENT
BEGIN:VEVENT
DTSTART;VALUE=DATE:20220525
DTEND;VALUE=DATE:20220526
DTSTAMP:20260422T172525
CREATED:20220504T151852Z
LAST-MODIFIED:20220504T151905Z
UID:4658-1653436800-1653523199@www.theavenueprimaryschool.co.uk
SUMMARY:Rec\, Y1 and Y2 family Jubilee afternoon
DESCRIPTION:Parents/carers invited to join the children for a picnic lunch. Children to wear party clothes all day. More information to follow. \n\n\n\nJubilee family picnic\n\n\nWednesday 25th May\n\n\n\nReception\n11.30am – 1.30pm\n\n\nYear 1\n12 – 2pm\n\n\nYear 2\n12 – 2pm\n\n\nThursday 26th May \n\n\n\nYear 3\n11.30am – 1.30pm\n\n\nYear 4\n11.30am – 1.30pm\n\n\nYear 5\n12 – 2pm\n\n\nYear 6\n12 – 2pm
URL:https://www.theavenueprimaryschool.co.uk/event/rec-y1-and-y2-family-jubilee-afternoon/
END:VEVENT
BEGIN:VEVENT
DTSTART;VALUE=DATE:20220509
DTEND;VALUE=DATE:20220514
DTSTAMP:20260422T172525
CREATED:20220504T151803Z
LAST-MODIFIED:20220504T151803Z
UID:4656-1652054400-1652486399@www.theavenueprimaryschool.co.uk
SUMMARY:SAT’s week for Year 6
DESCRIPTION:
URL:https://www.theavenueprimaryschool.co.uk/event/sats-week-for-year-6/
END:VEVENT
BEGIN:VEVENT
DTSTART;VALUE=DATE:20220502
DTEND;VALUE=DATE:20220503
DTSTAMP:20260422T172525
CREATED:20220131T132923Z
LAST-MODIFIED:20220131T132923Z
UID:4425-1651449600-1651535999@www.theavenueprimaryschool.co.uk
SUMMARY:May Day Bank Holiday
DESCRIPTION:
URL:https://www.theavenueprimaryschool.co.uk/event/may-day-bank-holiday/
END:VEVENT
BEGIN:VEVENT
DTSTART;VALUE=DATE:20220425
DTEND;VALUE=DATE:20220426
DTSTAMP:20260422T172525
CREATED:20220131T132850Z
LAST-MODIFIED:20220131T132850Z
UID:4423-1650844800-1650931199@www.theavenueprimaryschool.co.uk
SUMMARY:School re-opens
DESCRIPTION:
URL:https://www.theavenueprimaryschool.co.uk/event/school-re-opens-3/
END:VEVENT
BEGIN:VEVENT
DTSTART;VALUE=DATE:20220408
DTEND;VALUE=DATE:20220409
DTSTAMP:20260422T172525
CREATED:20220131T132815Z
LAST-MODIFIED:20220131T132815Z
UID:4421-1649376000-1649462399@www.theavenueprimaryschool.co.uk
SUMMARY:Break up for the Easter holidays
DESCRIPTION:
URL:https://www.theavenueprimaryschool.co.uk/event/break-up-for-the-easter-holidays/
END:VEVENT
BEGIN:VEVENT
DTSTART;VALUE=DATE:20220404
DTEND;VALUE=DATE:20220405
DTSTAMP:20260422T172525
CREATED:20220131T132651Z
LAST-MODIFIED:20220131T132651Z
UID:4419-1649030400-1649116799@www.theavenueprimaryschool.co.uk
SUMMARY:Whole school decorated egg competition
DESCRIPTION:Children to bring a decorated egg into school linked to the year group half termly topic.\nEggs to be dropped off on Monday 4th April at the main school hall and collected on Wednesday 6th April. Winners will be announced Friday 8th April.
URL:https://www.theavenueprimaryschool.co.uk/event/whole-school-decorated-egg-competition/
END:VEVENT
BEGIN:VEVENT
DTSTART;VALUE=DATE:20220318
DTEND;VALUE=DATE:20220319
DTSTAMP:20260422T172525
CREATED:20220131T132601Z
LAST-MODIFIED:20220131T132601Z
UID:4417-1647561600-1647647999@www.theavenueprimaryschool.co.uk
SUMMARY:Red Nose Day
DESCRIPTION:Children can come in red and white non-uniform including comic relief clothing and accessories. Donations will be electronic rather than cash. More information to follow.
URL:https://www.theavenueprimaryschool.co.uk/event/red-nose-day/
END:VEVENT
BEGIN:VEVENT
DTSTART;VALUE=DATE:20220303
DTEND;VALUE=DATE:20220304
DTSTAMP:20260422T172525
CREATED:20220131T132521Z
LAST-MODIFIED:20220131T132521Z
UID:4415-1646265600-1646351999@www.theavenueprimaryschool.co.uk
SUMMARY:World Book Day
DESCRIPTION:Children to come to school dressed as their favourite book character. More information to follow closer to the time.
URL:https://www.theavenueprimaryschool.co.uk/event/world-book-day-3/
END:VEVENT
END:VCALENDAR