   BEGIN:VCALENDAR
VERSION:2.0
PRODID:-//The Avenue - ECPv6.15.20//NONSGML v1.0//EN
CALSCALE:GREGORIAN
METHOD:PUBLISH
X-WR-CALNAME:The Avenue
X-ORIGINAL-URL:https://www.theavenueprimaryschool.co.uk
X-WR-CALDESC:Events for The Avenue
REFRESH-INTERVAL;VALUE=DURATION:PT1H
X-Robots-Tag:noindex
X-PUBLISHED-TTL:PT1H
BEGIN:VTIMEZONE
TZID:UTC
BEGIN:STANDARD
TZOFFSETFROM:+0000
TZOFFSETTO:+0000
TZNAME:UTC
DTSTART:20210101T000000
END:STANDARD
END:VTIMEZONE
BEGIN:VEVENT
DTSTART;VALUE=DATE:20230621
DTEND;VALUE=DATE:20230622
DTSTAMP:20260420T092808
CREATED:20230103T155235Z
LAST-MODIFIED:20230103T155235Z
UID:5265-1687305600-1687391999@www.theavenueprimaryschool.co.uk
SUMMARY:World Music Day
DESCRIPTION:
URL:https://www.theavenueprimaryschool.co.uk/event/world-music-day-2/
END:VEVENT
BEGIN:VEVENT
DTSTART;TZID=UTC:20230616T090000
DTEND;TZID=UTC:20230616T100000
DTSTAMP:20260420T092808
CREATED:20230103T155030Z
LAST-MODIFIED:20230103T155030Z
UID:5263-1686906000-1686909600@www.theavenueprimaryschool.co.uk
SUMMARY:SEND Coffee Morning
DESCRIPTION:
URL:https://www.theavenueprimaryschool.co.uk/event/send-coffee-morning-2/
END:VEVENT
BEGIN:VEVENT
DTSTART;TZID=UTC:20230606T085000
DTEND;TZID=UTC:20230606T090000
DTSTAMP:20260420T092808
CREATED:20230103T154941Z
LAST-MODIFIED:20230103T154941Z
UID:5261-1686041400-1686042000@www.theavenueprimaryschool.co.uk
SUMMARY:Back to school
DESCRIPTION:
URL:https://www.theavenueprimaryschool.co.uk/event/back-to-school-10/
END:VEVENT
BEGIN:VEVENT
DTSTART;VALUE=DATE:20230605
DTEND;VALUE=DATE:20230606
DTSTAMP:20260420T092808
CREATED:20230103T154901Z
LAST-MODIFIED:20230103T154901Z
UID:5259-1685923200-1686009599@www.theavenueprimaryschool.co.uk
SUMMARY:PD Day – school closed to children
DESCRIPTION:
URL:https://www.theavenueprimaryschool.co.uk/event/pd-day-school-closed-to-children-5/
END:VEVENT
BEGIN:VEVENT
DTSTART;VALUE=DATE:20230529
DTEND;VALUE=DATE:20230603
DTSTAMP:20260420T092808
CREATED:20230103T154830Z
LAST-MODIFIED:20230103T154830Z
UID:5257-1685318400-1685750399@www.theavenueprimaryschool.co.uk
SUMMARY:Half term week
DESCRIPTION:
URL:https://www.theavenueprimaryschool.co.uk/event/half-term-week-2/
END:VEVENT
BEGIN:VEVENT
DTSTART;VALUE=DATE:20230526
DTEND;VALUE=DATE:20230527
DTSTAMP:20260420T092808
CREATED:20230103T154800Z
LAST-MODIFIED:20230103T154800Z
UID:5255-1685059200-1685145599@www.theavenueprimaryschool.co.uk
SUMMARY:PD Day – school closed to children
DESCRIPTION:
URL:https://www.theavenueprimaryschool.co.uk/event/pd-day-school-closed-to-children-4/
END:VEVENT
BEGIN:VEVENT
DTSTART;TZID=UTC:20230525T150000
DTEND;TZID=UTC:20230525T151500
DTSTAMP:20260420T092808
CREATED:20230103T154730Z
LAST-MODIFIED:20230103T154730Z
UID:5253-1685026800-1685027700@www.theavenueprimaryschool.co.uk
SUMMARY:Break up for Half Term
DESCRIPTION:
URL:https://www.theavenueprimaryschool.co.uk/event/break-up-for-half-term-5/
END:VEVENT
BEGIN:VEVENT
DTSTART;VALUE=DATE:20230509
DTEND;VALUE=DATE:20230513
DTSTAMP:20260420T092808
CREATED:20230103T154631Z
LAST-MODIFIED:20230103T154631Z
UID:5251-1683590400-1683935999@www.theavenueprimaryschool.co.uk
SUMMARY:Y6 SATs week
DESCRIPTION:
URL:https://www.theavenueprimaryschool.co.uk/event/y6-sats-week/
END:VEVENT
BEGIN:VEVENT
DTSTART;VALUE=DATE:20230508
DTEND;VALUE=DATE:20230509
DTSTAMP:20260420T092808
CREATED:20230103T153636Z
LAST-MODIFIED:20230103T153636Z
UID:5247-1683504000-1683590399@www.theavenueprimaryschool.co.uk
SUMMARY:Bank Holiday – Coronation
DESCRIPTION:
URL:https://www.theavenueprimaryschool.co.uk/event/bank-holiday-coronation/
END:VEVENT
BEGIN:VEVENT
DTSTART;VALUE=DATE:20230505
DTEND;VALUE=DATE:20230506
DTSTAMP:20260420T092808
CREATED:20230103T153700Z
LAST-MODIFIED:20230103T153700Z
UID:5249-1683244800-1683331199@www.theavenueprimaryschool.co.uk
SUMMARY:Coronation Party – details to follow
DESCRIPTION:
URL:https://www.theavenueprimaryschool.co.uk/event/coronation-party-details-to-follow/
END:VEVENT
BEGIN:VEVENT
DTSTART;VALUE=DATE:20230504
DTEND;VALUE=DATE:20230505
DTSTAMP:20260420T092808
CREATED:20230103T153601Z
LAST-MODIFIED:20230103T153601Z
UID:5245-1683158400-1683244799@www.theavenueprimaryschool.co.uk
SUMMARY:School closed – Polling Day
DESCRIPTION:
URL:https://www.theavenueprimaryschool.co.uk/event/school-closed-polling-day/
END:VEVENT
BEGIN:VEVENT
DTSTART;VALUE=DATE:20230501
DTEND;VALUE=DATE:20230502
DTSTAMP:20260420T092808
CREATED:20230103T153502Z
LAST-MODIFIED:20230103T153525Z
UID:5243-1682899200-1682985599@www.theavenueprimaryschool.co.uk
SUMMARY:Bank Holiday – May Day
DESCRIPTION:
URL:https://www.theavenueprimaryschool.co.uk/event/bank-holiday-may-day/
END:VEVENT
BEGIN:VEVENT
DTSTART;TZID=UTC:20230428T090000
DTEND;TZID=UTC:20230428T100000
DTSTAMP:20260420T092808
CREATED:20230103T153448Z
LAST-MODIFIED:20230103T153448Z
UID:5241-1682672400-1682676000@www.theavenueprimaryschool.co.uk
SUMMARY:Pastoral Coffee Morning
DESCRIPTION:
URL:https://www.theavenueprimaryschool.co.uk/event/pastoral-coffee-morning/
END:VEVENT
BEGIN:VEVENT
DTSTART;TZID=UTC:20230417T085000
DTEND;TZID=UTC:20230417T090000
DTSTAMP:20260420T092808
CREATED:20230103T153412Z
LAST-MODIFIED:20230103T153412Z
UID:5239-1681721400-1681722000@www.theavenueprimaryschool.co.uk
SUMMARY:Back to School
DESCRIPTION:
URL:https://www.theavenueprimaryschool.co.uk/event/back-to-school-9/
END:VEVENT
BEGIN:VEVENT
DTSTART;VALUE=DATE:20230403
DTEND;VALUE=DATE:20230415
DTSTAMP:20260420T092808
CREATED:20230103T152900Z
LAST-MODIFIED:20230103T152900Z
UID:5237-1680480000-1681516799@www.theavenueprimaryschool.co.uk
SUMMARY:Easter Holidays
DESCRIPTION:
URL:https://www.theavenueprimaryschool.co.uk/event/easter-holidays-4/
END:VEVENT
BEGIN:VEVENT
DTSTART;TZID=UTC:20230331T133000
DTEND;TZID=UTC:20230331T150000
DTSTAMP:20260420T092808
CREATED:20230103T152826Z
LAST-MODIFIED:20230103T152826Z
UID:5235-1680269400-1680274800@www.theavenueprimaryschool.co.uk
SUMMARY:Open Afternoon/End of term
DESCRIPTION:
URL:https://www.theavenueprimaryschool.co.uk/event/open-afternoon-end-of-term/
END:VEVENT
BEGIN:VEVENT
DTSTART;VALUE=DATE:20230327
DTEND;VALUE=DATE:20230401
DTSTAMP:20260420T092808
CREATED:20230103T152729Z
LAST-MODIFIED:20230103T152729Z
UID:5233-1679875200-1680307199@www.theavenueprimaryschool.co.uk
SUMMARY:Interim Reports to Parents
DESCRIPTION:
URL:https://www.theavenueprimaryschool.co.uk/event/interim-reports-to-parents/
END:VEVENT
BEGIN:VEVENT
DTSTART;VALUE=DATE:20230324
DTEND;VALUE=DATE:20230325
DTSTAMP:20260420T092808
CREATED:20230103T152702Z
LAST-MODIFIED:20230103T152702Z
UID:5231-1679616000-1679702399@www.theavenueprimaryschool.co.uk
SUMMARY:Comic Relief – Non uniform day
DESCRIPTION:
URL:https://www.theavenueprimaryschool.co.uk/event/comic-relief-non-uniform-day/
END:VEVENT
BEGIN:VEVENT
DTSTART;VALUE=DATE:20230320
DTEND;VALUE=DATE:20230324
DTSTAMP:20260420T092808
CREATED:20230103T152545Z
LAST-MODIFIED:20230103T152545Z
UID:5229-1679270400-1679615999@www.theavenueprimaryschool.co.uk
SUMMARY:Parents Evening
DESCRIPTION:All sessions between the dates will be from 3.30 to 5.30pm each day.
URL:https://www.theavenueprimaryschool.co.uk/event/parents-evening-2/
END:VEVENT
BEGIN:VEVENT
DTSTART;TZID=UTC:20230303T090000
DTEND;TZID=UTC:20230303T100000
DTSTAMP:20260420T092808
CREATED:20230103T152356Z
LAST-MODIFIED:20230103T152356Z
UID:5227-1677834000-1677837600@www.theavenueprimaryschool.co.uk
SUMMARY:SEND Coffee Morning
DESCRIPTION:
URL:https://www.theavenueprimaryschool.co.uk/event/send-coffee-morning/
END:VEVENT
BEGIN:VEVENT
DTSTART;VALUE=DATE:20230302
DTEND;VALUE=DATE:20230303
DTSTAMP:20260420T092808
CREATED:20230103T152322Z
LAST-MODIFIED:20230103T152322Z
UID:5225-1677715200-1677801599@www.theavenueprimaryschool.co.uk
SUMMARY:World Book Day
DESCRIPTION:
URL:https://www.theavenueprimaryschool.co.uk/event/world-book-day-4/
END:VEVENT
BEGIN:VEVENT
DTSTART;TZID=UTC:20230227T085000
DTEND;TZID=UTC:20230227T090000
DTSTAMP:20260420T092808
CREATED:20230103T152230Z
LAST-MODIFIED:20230103T152230Z
UID:5223-1677487800-1677488400@www.theavenueprimaryschool.co.uk
SUMMARY:Back to School
DESCRIPTION:
URL:https://www.theavenueprimaryschool.co.uk/event/back-to-school-8/
END:VEVENT
BEGIN:VEVENT
DTSTART;VALUE=DATE:20230220
DTEND;VALUE=DATE:20230225
DTSTAMP:20260420T092808
CREATED:20230103T152108Z
LAST-MODIFIED:20230103T152108Z
UID:5221-1676851200-1677283199@www.theavenueprimaryschool.co.uk
SUMMARY:Half Term Week
DESCRIPTION:
URL:https://www.theavenueprimaryschool.co.uk/event/half-term-week/
END:VEVENT
BEGIN:VEVENT
DTSTART;VALUE=DATE:20230217
DTEND;VALUE=DATE:20230218
DTSTAMP:20260420T092808
CREATED:20230103T152044Z
LAST-MODIFIED:20230103T152044Z
UID:5219-1676592000-1676678399@www.theavenueprimaryschool.co.uk
SUMMARY:PD Day – school closed to children
DESCRIPTION:
URL:https://www.theavenueprimaryschool.co.uk/event/pd-day-school-closed-to-children-3/
END:VEVENT
BEGIN:VEVENT
DTSTART;VALUE=DATE:20230214
DTEND;VALUE=DATE:20230215
DTSTAMP:20260420T092808
CREATED:20230103T151808Z
LAST-MODIFIED:20230103T151808Z
UID:5217-1676332800-1676419199@www.theavenueprimaryschool.co.uk
SUMMARY:Valentine Disco
DESCRIPTION:
URL:https://www.theavenueprimaryschool.co.uk/event/valentine-disco/
END:VEVENT
BEGIN:VEVENT
DTSTART;VALUE=DATE:20230210
DTEND;VALUE=DATE:20230211
DTSTAMP:20260420T092808
CREATED:20230103T151740Z
LAST-MODIFIED:20230103T151740Z
UID:5215-1675987200-1676073599@www.theavenueprimaryschool.co.uk
SUMMARY:Express Yourself and Well-Being Day
DESCRIPTION:
URL:https://www.theavenueprimaryschool.co.uk/event/express-yourself-and-well-being-day/
END:VEVENT
BEGIN:VEVENT
DTSTART;TZID=UTC:20230113T090000
DTEND;TZID=UTC:20230113T100000
DTSTAMP:20260420T092808
CREATED:20230103T151705Z
LAST-MODIFIED:20230103T151705Z
UID:5213-1673600400-1673604000@www.theavenueprimaryschool.co.uk
SUMMARY:Pastoral Coffee Morning for Parents
DESCRIPTION:
URL:https://www.theavenueprimaryschool.co.uk/event/pastoral-coffee-morning-for-parents/
END:VEVENT
BEGIN:VEVENT
DTSTART;TZID=UTC:20230104T080000
DTEND;TZID=UTC:20230104T170000
DTSTAMP:20260420T092808
CREATED:20220920T164055Z
LAST-MODIFIED:20220920T164055Z
UID:5005-1672819200-1672851600@www.theavenueprimaryschool.co.uk
SUMMARY:Back to school
DESCRIPTION:
URL:https://www.theavenueprimaryschool.co.uk/event/back-to-school-7/
END:VEVENT
BEGIN:VEVENT
DTSTART;VALUE=DATE:20221220
DTEND;VALUE=DATE:20221221
DTSTAMP:20260420T092808
CREATED:20220920T164032Z
LAST-MODIFIED:20220920T164032Z
UID:5003-1671494400-1671580799@www.theavenueprimaryschool.co.uk
SUMMARY:Break up for Christmas holidays
DESCRIPTION:
URL:https://www.theavenueprimaryschool.co.uk/event/break-up-for-christmas-holidays/
END:VEVENT
BEGIN:VEVENT
DTSTART;VALUE=DATE:20221215
DTEND;VALUE=DATE:20221216
DTSTAMP:20260420T092808
CREATED:20220920T164013Z
LAST-MODIFIED:20220920T164013Z
UID:5001-1671062400-1671148799@www.theavenueprimaryschool.co.uk
SUMMARY:Y5 & Y6 Church Performance
DESCRIPTION:
URL:https://www.theavenueprimaryschool.co.uk/event/y5-y6-church-performance/
END:VEVENT
END:VCALENDAR