   BEGIN:VCALENDAR
VERSION:2.0
PRODID:-//The Avenue - ECPv6.15.20//NONSGML v1.0//EN
CALSCALE:GREGORIAN
METHOD:PUBLISH
X-ORIGINAL-URL:https://www.theavenueprimaryschool.co.uk
X-WR-CALDESC:Events for The Avenue
REFRESH-INTERVAL;VALUE=DURATION:PT1H
X-Robots-Tag:noindex
X-PUBLISHED-TTL:PT1H
BEGIN:VTIMEZONE
TZID:UTC
BEGIN:STANDARD
TZOFFSETFROM:+0000
TZOFFSETTO:+0000
TZNAME:UTC
DTSTART:20220101T000000
END:STANDARD
END:VTIMEZONE
BEGIN:VEVENT
DTSTART;TZID=UTC:20231109T153000
DTEND;TZID=UTC:20231109T160000
DTSTAMP:20260420T060325
CREATED:20231109T133139Z
LAST-MODIFIED:20231109T133139Z
UID:5833-1699543800-1699545600@www.theavenueprimaryschool.co.uk
SUMMARY:Parents Evening 20th - 23rd November 2023
DESCRIPTION:Teacher(s) available for parents evening: Miss Bell \nView Event
URL:https://www.theavenueprimaryschool.co.uk/event/parents-evening-20th-23rd-november-2023-7/
END:VEVENT
BEGIN:VEVENT
DTSTART;TZID=UTC:20231109T151500
DTEND;TZID=UTC:20231109T164500
DTSTAMP:20260420T060325
CREATED:20231109T133143Z
LAST-MODIFIED:20231109T133143Z
UID:5840-1699542900-1699548300@www.theavenueprimaryschool.co.uk
SUMMARY:Parents Evening 20th - 23rd November 2023
DESCRIPTION:Teacher(s) available for parents evening: Miss Walker \nView Event
URL:https://www.theavenueprimaryschool.co.uk/event/parents-evening-20th-23rd-november-2023-14/
END:VEVENT
BEGIN:VEVENT
DTSTART;TZID=UTC:20231109T151500
DTEND;TZID=UTC:20231109T164500
DTSTAMP:20260420T060325
CREATED:20231109T133143Z
LAST-MODIFIED:20231109T133143Z
UID:5841-1699542900-1699548300@www.theavenueprimaryschool.co.uk
SUMMARY:Parents Evening 20th - 23rd November 2023
DESCRIPTION:Teacher(s) available for parents evening: Miss Walker \nView Event
URL:https://www.theavenueprimaryschool.co.uk/event/parents-evening-20th-23rd-november-2023-15/
END:VEVENT
BEGIN:VEVENT
DTSTART;TZID=UTC:20231109T151500
DTEND;TZID=UTC:20231109T164500
DTSTAMP:20260420T060325
CREATED:20231109T133143Z
LAST-MODIFIED:20231109T133143Z
UID:5842-1699542900-1699548300@www.theavenueprimaryschool.co.uk
SUMMARY:Parents Evening 20th - 23rd November 2023
DESCRIPTION:Teacher(s) available for parents evening: Miss Walker \nView Event
URL:https://www.theavenueprimaryschool.co.uk/event/parents-evening-20th-23rd-november-2023-16/
END:VEVENT
BEGIN:VEVENT
DTSTART;TZID=UTC:20231109T000000
DTEND;TZID=UTC:20231109T000000
DTSTAMP:20260420T060325
CREATED:20231109T135833Z
LAST-MODIFIED:20231109T135833Z
UID:5861-1699488000-1699488000@www.theavenueprimaryschool.co.uk
SUMMARY:Autumn Parents Evening November 2023
DESCRIPTION:View Event
URL:https://www.theavenueprimaryschool.co.uk/event/autumn-parents-evening-november-2023-3/
END:VEVENT
BEGIN:VEVENT
DTSTART;TZID=UTC:20231109T000000
DTEND;TZID=UTC:20231109T000000
DTSTAMP:20260420T060325
CREATED:20231109T134947Z
LAST-MODIFIED:20231109T134947Z
UID:5860-1699488000-1699488000@www.theavenueprimaryschool.co.uk
SUMMARY:Autumn Parents Evening November 2023
DESCRIPTION:View Event
URL:https://www.theavenueprimaryschool.co.uk/event/autumn-parents-evening-november-2023-2/
END:VEVENT
BEGIN:VEVENT
DTSTART;TZID=UTC:20231109T000000
DTEND;TZID=UTC:20231109T000000
DTSTAMP:20260420T060325
CREATED:20231109T134635Z
LAST-MODIFIED:20231109T134635Z
UID:5859-1699488000-1699488000@www.theavenueprimaryschool.co.uk
SUMMARY:Autumn Parents Evening November 2023
DESCRIPTION:View Event
URL:https://www.theavenueprimaryschool.co.uk/event/autumn-parents-evening-november-2023/
END:VEVENT
BEGIN:VEVENT
DTSTART;VALUE=DATE:20231030
DTEND;VALUE=DATE:20231031
DTSTAMP:20260420T060325
CREATED:20230831T143330Z
LAST-MODIFIED:20230831T143330Z
UID:5581-1698624000-1698710399@www.theavenueprimaryschool.co.uk
SUMMARY:Back to school
DESCRIPTION:
URL:https://www.theavenueprimaryschool.co.uk/event/back-to-school-11/
END:VEVENT
BEGIN:VEVENT
DTSTART;VALUE=DATE:20231027
DTEND;VALUE=DATE:20231028
DTSTAMP:20260420T060325
CREATED:20230831T143255Z
LAST-MODIFIED:20230831T143255Z
UID:5579-1698364800-1698451199@www.theavenueprimaryschool.co.uk
SUMMARY:Break up for October Half Term
DESCRIPTION:
URL:https://www.theavenueprimaryschool.co.uk/event/break-up-for-october-half-term/
END:VEVENT
BEGIN:VEVENT
DTSTART;VALUE=DATE:20231027
DTEND;VALUE=DATE:20231028
DTSTAMP:20260420T060325
CREATED:20230831T143236Z
LAST-MODIFIED:20230831T143236Z
UID:5577-1698364800-1698451199@www.theavenueprimaryschool.co.uk
SUMMARY:Pumpkin Carving Competition
DESCRIPTION:
URL:https://www.theavenueprimaryschool.co.uk/event/pumpkin-carving-competition/
END:VEVENT
BEGIN:VEVENT
DTSTART;TZID=UTC:20231013T090000
DTEND;TZID=UTC:20231013T110000
DTSTAMP:20260420T060325
CREATED:20230831T143214Z
LAST-MODIFIED:20230831T143214Z
UID:5575-1697187600-1697194800@www.theavenueprimaryschool.co.uk
SUMMARY:SEND & Pastoral Coffee Morning
DESCRIPTION:
URL:https://www.theavenueprimaryschool.co.uk/event/send-pastoral-coffee-morning/
END:VEVENT
BEGIN:VEVENT
DTSTART;TZID=UTC:20230929T090000
DTEND;TZID=UTC:20230929T110000
DTSTAMP:20260420T060325
CREATED:20230831T143122Z
LAST-MODIFIED:20230831T143122Z
UID:5573-1695978000-1695985200@www.theavenueprimaryschool.co.uk
SUMMARY:MacMillan Coffee Morning
DESCRIPTION:
URL:https://www.theavenueprimaryschool.co.uk/event/macmillan-coffee-morning/
END:VEVENT
BEGIN:VEVENT
DTSTART;VALUE=DATE:20230927
DTEND;VALUE=DATE:20230928
DTSTAMP:20260420T060325
CREATED:20230831T142941Z
LAST-MODIFIED:20230831T142941Z
UID:5571-1695772800-1695859199@www.theavenueprimaryschool.co.uk
SUMMARY:Parent drop in
DESCRIPTION:After School Parent drop in – curriculum information\, meet the teachers and see the room.
URL:https://www.theavenueprimaryschool.co.uk/event/parent-drop-in/
END:VEVENT
BEGIN:VEVENT
DTSTART;VALUE=DATE:20230925
DTEND;VALUE=DATE:20230930
DTSTAMP:20260420T060325
CREATED:20230831T142857Z
LAST-MODIFIED:20230831T142857Z
UID:5569-1695600000-1696031999@www.theavenueprimaryschool.co.uk
SUMMARY:Book Fair – main office
DESCRIPTION:After school
URL:https://www.theavenueprimaryschool.co.uk/event/book-fair-main-office/
END:VEVENT
BEGIN:VEVENT
DTSTART;VALUE=DATE:20230922
DTEND;VALUE=DATE:20230923
DTSTAMP:20260420T060325
CREATED:20230831T142714Z
LAST-MODIFIED:20230831T142714Z
UID:5567-1695340800-1695427199@www.theavenueprimaryschool.co.uk
SUMMARY:School Photographs
DESCRIPTION:All day
URL:https://www.theavenueprimaryschool.co.uk/event/school-photographs-3/
END:VEVENT
BEGIN:VEVENT
DTSTART;VALUE=DATE:20230905
DTEND;VALUE=DATE:20230906
DTSTAMP:20260420T060325
CREATED:20230526T123203Z
LAST-MODIFIED:20230526T123203Z
UID:5501-1693872000-1693958399@www.theavenueprimaryschool.co.uk
SUMMARY:PD Day
DESCRIPTION:
URL:https://www.theavenueprimaryschool.co.uk/event/pd-day-13/
END:VEVENT
BEGIN:VEVENT
DTSTART;VALUE=DATE:20230904
DTEND;VALUE=DATE:20230905
DTSTAMP:20260420T060325
CREATED:20230526T123143Z
LAST-MODIFIED:20230526T123143Z
UID:5499-1693785600-1693871999@www.theavenueprimaryschool.co.uk
SUMMARY:PD Day
DESCRIPTION:
URL:https://www.theavenueprimaryschool.co.uk/event/pd-day-12/
END:VEVENT
BEGIN:VEVENT
DTSTART;TZID=UTC:20230719T150500
DTEND;TZID=UTC:20230719T151500
DTSTAMP:20260420T060325
CREATED:20230103T155404Z
LAST-MODIFIED:20230103T155404Z
UID:5271-1689779100-1689779700@www.theavenueprimaryschool.co.uk
SUMMARY:End of Year
DESCRIPTION:
URL:https://www.theavenueprimaryschool.co.uk/event/end-of-year/
END:VEVENT
BEGIN:VEVENT
DTSTART;VALUE=DATE:20230713
DTEND;VALUE=DATE:20230714
DTSTAMP:20260420T060325
CREATED:20230103T155328Z
LAST-MODIFIED:20230103T155328Z
UID:5269-1689206400-1689292799@www.theavenueprimaryschool.co.uk
SUMMARY:Sports Day
DESCRIPTION:
URL:https://www.theavenueprimaryschool.co.uk/event/sports-day-3/
END:VEVENT
BEGIN:VEVENT
DTSTART;VALUE=DATE:20230630
DTEND;VALUE=DATE:20230701
DTSTAMP:20260420T060325
CREATED:20230103T155257Z
LAST-MODIFIED:20230103T155257Z
UID:5267-1688083200-1688169599@www.theavenueprimaryschool.co.uk
SUMMARY:Fun run – details to follow
DESCRIPTION:
URL:https://www.theavenueprimaryschool.co.uk/event/fun-run-details-to-follow/
END:VEVENT
BEGIN:VEVENT
DTSTART;VALUE=DATE:20230621
DTEND;VALUE=DATE:20230622
DTSTAMP:20260420T060325
CREATED:20230103T155235Z
LAST-MODIFIED:20230103T155235Z
UID:5265-1687305600-1687391999@www.theavenueprimaryschool.co.uk
SUMMARY:World Music Day
DESCRIPTION:
URL:https://www.theavenueprimaryschool.co.uk/event/world-music-day-2/
END:VEVENT
BEGIN:VEVENT
DTSTART;TZID=UTC:20230616T090000
DTEND;TZID=UTC:20230616T100000
DTSTAMP:20260420T060325
CREATED:20230103T155030Z
LAST-MODIFIED:20230103T155030Z
UID:5263-1686906000-1686909600@www.theavenueprimaryschool.co.uk
SUMMARY:SEND Coffee Morning
DESCRIPTION:
URL:https://www.theavenueprimaryschool.co.uk/event/send-coffee-morning-2/
END:VEVENT
BEGIN:VEVENT
DTSTART;TZID=UTC:20230606T085000
DTEND;TZID=UTC:20230606T090000
DTSTAMP:20260420T060325
CREATED:20230103T154941Z
LAST-MODIFIED:20230103T154941Z
UID:5261-1686041400-1686042000@www.theavenueprimaryschool.co.uk
SUMMARY:Back to school
DESCRIPTION:
URL:https://www.theavenueprimaryschool.co.uk/event/back-to-school-10/
END:VEVENT
BEGIN:VEVENT
DTSTART;VALUE=DATE:20230605
DTEND;VALUE=DATE:20230606
DTSTAMP:20260420T060325
CREATED:20230103T154901Z
LAST-MODIFIED:20230103T154901Z
UID:5259-1685923200-1686009599@www.theavenueprimaryschool.co.uk
SUMMARY:PD Day – school closed to children
DESCRIPTION:
URL:https://www.theavenueprimaryschool.co.uk/event/pd-day-school-closed-to-children-5/
END:VEVENT
BEGIN:VEVENT
DTSTART;VALUE=DATE:20230529
DTEND;VALUE=DATE:20230603
DTSTAMP:20260420T060325
CREATED:20230103T154830Z
LAST-MODIFIED:20230103T154830Z
UID:5257-1685318400-1685750399@www.theavenueprimaryschool.co.uk
SUMMARY:Half term week
DESCRIPTION:
URL:https://www.theavenueprimaryschool.co.uk/event/half-term-week-2/
END:VEVENT
BEGIN:VEVENT
DTSTART;VALUE=DATE:20230526
DTEND;VALUE=DATE:20230527
DTSTAMP:20260420T060325
CREATED:20230103T154800Z
LAST-MODIFIED:20230103T154800Z
UID:5255-1685059200-1685145599@www.theavenueprimaryschool.co.uk
SUMMARY:PD Day – school closed to children
DESCRIPTION:
URL:https://www.theavenueprimaryschool.co.uk/event/pd-day-school-closed-to-children-4/
END:VEVENT
BEGIN:VEVENT
DTSTART;TZID=UTC:20230525T150000
DTEND;TZID=UTC:20230525T151500
DTSTAMP:20260420T060325
CREATED:20230103T154730Z
LAST-MODIFIED:20230103T154730Z
UID:5253-1685026800-1685027700@www.theavenueprimaryschool.co.uk
SUMMARY:Break up for Half Term
DESCRIPTION:
URL:https://www.theavenueprimaryschool.co.uk/event/break-up-for-half-term-5/
END:VEVENT
BEGIN:VEVENT
DTSTART;VALUE=DATE:20230509
DTEND;VALUE=DATE:20230513
DTSTAMP:20260420T060325
CREATED:20230103T154631Z
LAST-MODIFIED:20230103T154631Z
UID:5251-1683590400-1683935999@www.theavenueprimaryschool.co.uk
SUMMARY:Y6 SATs week
DESCRIPTION:
URL:https://www.theavenueprimaryschool.co.uk/event/y6-sats-week/
END:VEVENT
BEGIN:VEVENT
DTSTART;VALUE=DATE:20230508
DTEND;VALUE=DATE:20230509
DTSTAMP:20260420T060325
CREATED:20230103T153636Z
LAST-MODIFIED:20230103T153636Z
UID:5247-1683504000-1683590399@www.theavenueprimaryschool.co.uk
SUMMARY:Bank Holiday – Coronation
DESCRIPTION:
URL:https://www.theavenueprimaryschool.co.uk/event/bank-holiday-coronation/
END:VEVENT
BEGIN:VEVENT
DTSTART;VALUE=DATE:20230505
DTEND;VALUE=DATE:20230506
DTSTAMP:20260420T060325
CREATED:20230103T153700Z
LAST-MODIFIED:20230103T153700Z
UID:5249-1683244800-1683331199@www.theavenueprimaryschool.co.uk
SUMMARY:Coronation Party – details to follow
DESCRIPTION:
URL:https://www.theavenueprimaryschool.co.uk/event/coronation-party-details-to-follow/
END:VEVENT
END:VCALENDAR